{ "currentVersion": 10.51, "serviceDescription": "
Il Piano di Indirizzo Forestale (P.I.F.) è lo strumento previsto dalla Legge Regionale 28 ottobre 2004, n. 27 e ripreso dalla Legge Regionale 5 dicembre 2008, n. 31 \u201cper delineare gli obiettivi di sviluppo del settore silvopastorale e le linee di gestione di tutte le proprietà forestali, private e pubbliche\u201d.<\/SPAN><\/P> Accanto agli aspetti settoriali, il Piano di Indirizzo Forestale assume anche un ruolo di primaria importanza nel trattare il bosco nell\u2019ambito del più ampio contesto della pianificazione urbanistico-territoriale: in questo contesto il Piano di Indirizzo Forestale assume rilevanza quale Piano di Settore del Piano Territoriale di Coordinamento Provinciale ed i suoi contenuti risultano cogenti e vincolanti nei confronti degli strumenti urbanistici comunali (Legge Regionale 28 ottobre 2004, n. 27 e Legge Regionale 11 marzo 2005, n. 12).<\/SPAN><\/P> Comunità Montana di Valle Trompia è impegnata nel processo di approvazione di questo fondamentale strumento urbanistico che riguarda l\u2019intero territorio dei suoi 18 comuni: questo iter è monitorabile sul sito istituzionale.<\/SPAN><\/P> Non appena conclusa la sua elaborazione, il Piano di Indirizzo Forestale sarà pubblicato in questa sezione del Geoportale per essere consultabile sia dai tecnici del settore, che da tutti i cittadini interessati.<\/SPAN><\/P><\/DIV><\/DIV><\/DIV>",
"mapName": "PIF - Tavola 11 - Carta del govervno e dello stadio evolutivo",
"description": "",
"copyrightText": "",
"supportsDynamicLayers": true,
"layers": [
{
"id": 0,
"name": "_Comunità Montana Valle Trompia",
"parentLayerId": -1,
"defaultVisibility": true,
"subLayerIds": null,
"minScale": 10000010,
"maxScale": 0
},
{
"id": 1,
"name": "Comuni",
"parentLayerId": -1,
"defaultVisibility": true,
"subLayerIds": null,
"minScale": 1000010,
"maxScale": 0
},
{
"id": 2,
"name": "Governo e stadio evolutivo",
"parentLayerId": -1,
"defaultVisibility": true,
"subLayerIds": null,
"minScale": 500010,
"maxScale": 0
}
],
"tables": [],
"spatialReference": {
"wkid": 102100,
"latestWkid": 3857
},
"singleFusedMapCache": true,
"tileInfo": {
"rows": 256,
"cols": 256,
"dpi": 96,
"format": "PNG",
"compressionQuality": 0,
"origin": {
"x": -2.0037508342787E7,
"y": 2.0037508342787E7
},
"spatialReference": {
"wkid": 102100,
"latestWkid": 3857
},
"lods": [
{
"level": 0,
"resolution": 156543.03392800014,
"scale": 5.91657527591555E8
},
{
"level": 1,
"resolution": 78271.51696399994,
"scale": 2.95828763795777E8
},
{
"level": 2,
"resolution": 39135.75848200009,
"scale": 1.47914381897889E8
},
{
"level": 3,
"resolution": 19567.87924099992,
"scale": 7.3957190948944E7
},
{
"level": 4,
"resolution": 9783.93962049996,
"scale": 3.6978595474472E7
},
{
"level": 5,
"resolution": 4891.96981024998,
"scale": 1.8489297737236E7
},
{
"level": 6,
"resolution": 2445.98490512499,
"scale": 9244648.868618
},
{
"level": 7,
"resolution": 1222.992452562495,
"scale": 4622324.434309
},
{
"level": 8,
"resolution": 611.4962262813797,
"scale": 2311162.217155
},
{
"level": 9,
"resolution": 305.74811314055756,
"scale": 1155581.108577
},
{
"level": 10,
"resolution": 152.87405657041106,
"scale": 577790.554289
},
{
"level": 11,
"resolution": 76.43702828507324,
"scale": 288895.277144
},
{
"level": 12,
"resolution": 38.21851414253662,
"scale": 144447.638572
},
{
"level": 13,
"resolution": 19.10925707126831,
"scale": 72223.819286
},
{
"level": 14,
"resolution": 9.554628535634155,
"scale": 36111.909643
},
{
"level": 15,
"resolution": 4.77731426794937,
"scale": 18055.954822
},
{
"level": 16,
"resolution": 2.388657133974685,
"scale": 9027.977411
},
{
"level": 17,
"resolution": 1.1943285668550503,
"scale": 4513.988705
},
{
"level": 18,
"resolution": 0.5971642835598172,
"scale": 2256.994353
},
{
"level": 19,
"resolution": 0.29858214164761665,
"scale": 1128.497176
}
]
},
"initialExtent": {
"xmin": 1105063.7134522654,
"ymin": 5732030.528092085,
"xmax": 1167671.5326680483,
"ymax": 5757421.72490875,
"spatialReference": {
"wkid": 102100,
"latestWkid": 3857
}
},
"fullExtent": {
"xmin": 1096906.9580326353,
"ymin": 5706275.573445836,
"xmax": 1187312.1044656343,
"ymax": 5763577.7839005515,
"spatialReference": {
"wkid": 102100,
"latestWkid": 3857
}
},
"minScale": 9244648.868618,
"maxScale": 1128.497176,
"units": "esriMeters",
"supportedImageFormatTypes": "PNG32,PNG24,PNG,JPG,DIB,TIFF,EMF,PS,PDF,GIF,SVG,SVGZ,BMP",
"documentInfo": {
"Title": "PIF - Tavola 11 - Carta del govervno e dello stadio evolutivo",
"Author": "",
"Comments": "Piano di indirizzo forestale - Tavola 11 - Carta del govervno e dello stadio evolutivo",
"Subject": "",
"Category": "",
"AntialiasingMode": "None",
"TextAntialiasingMode": "Force",
"Keywords": "PIF,Stadio evolutivo,Ambiente,Territorio,Geoportale"
},
"capabilities": "Map,Query,Data",
"supportedQueryFormats": "JSON, AMF, geoJSON",
"exportTilesAllowed": false,
"datumTransformations": [
{
"geoTransforms": [
{
"wkid": 108001,
"latestWkid": 1241,
"transformForward": true,
"name": "NAD_1927_To_NAD_1983_NADCON"
}
]
},
{
"geoTransforms": [
{
"wkid": 108001,
"latestWkid": 1241,
"transformForward": false,
"name": "NAD_1927_To_NAD_1983_NADCON"
}
]
}
],
"supportsDatumTransformation": true,
"maxRecordCount": 1000,
"maxImageHeight": 4096,
"maxImageWidth": 4096,
"supportedExtensions": ""
}