{
 "currentVersion": 10.51,
 "serviceDescription": " Il Piano delle regole interessa il tessuto urbano consolidato, ha valenza prescrittiva, non ha limiti temporali e può essere rivisto ogni anno. Definisce le regole insediative per le aree di completamento e per le situazioni già costruite da riqualificare, distinte e definite in rapporto alla combinazione tra funzioni e caratteristiche morfologiche e tipologiche del tessuto insediativo.Il Piano delle regole individua:- gli ambiti del tessuto urbano consolidato, quali insieme delle parti di territorio su cui è già avvenuta l\u2019edificazione o la trasformazione dei suoli, comprendendo in essi le aree libere intercluse o di completamento;- gli immobili assoggettati a tutela in base alla normativa statale e regionale;- le aree e gli edifici a rischio di compromissione o degrado e a rischio di incidente rilevante;- le aree destinate all\u2019agricoltura;- le aree di valore paesaggistico-ambientale ed ecologiche;- le aree non soggette a trasformazione urbanistica.<\/SPAN><\/P><\/DIV><\/DIV><\/DIV>",
 "mapName": "Carta di azzonamento del TUC",
 "description": "Carta di azzonamento del TUC",
 "copyrightText": "Globo srl",
 "supportsDynamicLayers": true,
 "layers": [
  {
   "id": 0,
   "name": "_Limite amministrativo",
   "parentLayerId": -1,
   "defaultVisibility": true,
   "subLayerIds": null,
   "minScale": 950000,
   "maxScale": 45001
  },
  {
   "id": 1,
   "name": "_Confine comunale",
   "parentLayerId": -1,
   "defaultVisibility": true,
   "subLayerIds": null,
   "minScale": 45000,
   "maxScale": 0
  },
  {
   "id": 2,
   "name": "Corso d'acqua principale naturale - Torrente Lura",
   "parentLayerId": -1,
   "defaultVisibility": true,
   "subLayerIds": null,
   "minScale": 24000,
   "maxScale": 0
  },
  {
   "id": 3,
   "name": "Rotatorie in previsione",
   "parentLayerId": -1,
   "defaultVisibility": true,
   "subLayerIds": null,
   "minScale": 25000,
   "maxScale": 0
  },
  {
   "id": 4,
   "name": "Industrie a rischio di incidente rilevante",
   "parentLayerId": -1,
   "defaultVisibility": true,
   "subLayerIds": null,
   "minScale": 8000,
   "maxScale": 0
  },
  {
   "id": 5,
   "name": "_Vestizione - Tutela delle cose di interesse artistico e storico",
   "parentLayerId": -1,
   "defaultVisibility": true,
   "subLayerIds": null,
   "minScale": 8000,
   "maxScale": 0
  },
  {
   "id": 6,
   "name": "#Tutela interesse artistico storico",
   "parentLayerId": -1,
   "defaultVisibility": true,
   "subLayerIds": null,
   "minScale": 15000,
   "maxScale": 0
  },
  {
   "id": 7,
   "name": "Fascia di rispetto industrie a rischio di incidente rilevante",
   "parentLayerId": -1,
   "defaultVisibility": true,
   "subLayerIds": null,
   "minScale": 8000,
   "maxScale": 0
  },
  {
   "id": 8,
   "name": "_Vestizione - Fattibilità geologica delle azioni di piano",
   "parentLayerId": -1,
   "defaultVisibility": true,
   "subLayerIds": null,
   "minScale": 24000,
   "maxScale": 0
  },
  {
   "id": 9,
   "name": "#Fattibilità geologica delle azioni di piano",
   "parentLayerId": -1,
   "defaultVisibility": true,
   "subLayerIds": null,
   "minScale": 25000,
   "maxScale": 0
  },
  {
   "id": 10,
   "name": "Rispetto assoluto pozzi",
   "parentLayerId": -1,
   "defaultVisibility": true,
   "subLayerIds": null,
   "minScale": 25010,
   "maxScale": 0
  },
  {
   "id": 11,
   "name": "Fascia di rispetto ferroviario",
   "parentLayerId": -1,
   "defaultVisibility": true,
   "subLayerIds": null,
   "minScale": 10000,
   "maxScale": 0
  },
  {
   "id": 12,
   "name": "Vestizione - Previsione fascia di rispetto ampliamenti stradali",
   "parentLayerId": -1,
   "defaultVisibility": true,
   "subLayerIds": null,
   "minScale": 20000,
   "maxScale": 0
  },
  {
   "id": 13,
   "name": "#Previsione fascia di rispetto ampliamenti stradali",
   "parentLayerId": -1,
   "defaultVisibility": true,
   "subLayerIds": null,
   "minScale": 25000,
   "maxScale": 0
  },
  {
   "id": 14,
   "name": "Lotti a permesso di costruire convenzionato",
   "parentLayerId": -1,
   "defaultVisibility": true,
   "subLayerIds": null,
   "minScale": 8000,
   "maxScale": 0
  },
  {
   "id": 15,
   "name": "Perimetro azienda a rischio di incidente rilvante",
   "parentLayerId": -1,
   "defaultVisibility": true,
   "subLayerIds": null,
   "minScale": 8000,
   "maxScale": 0
  },
  {
   "id": 16,
   "name": "Fascia di attenzione di 100 mt industrie a rischio di incidente rilevante",
   "parentLayerId": -1,
   "defaultVisibility": true,
   "subLayerIds": null,
   "minScale": 8000,
   "maxScale": 0
  },
  {
   "id": 17,
   "name": "_Vestizione - Centro storico",
   "parentLayerId": -1,
   "defaultVisibility": true,
   "subLayerIds": null,
   "minScale": 8000,
   "maxScale": 0
  },
  {
   "id": 18,
   "name": "Nuclei di antica formazione",
   "parentLayerId": -1,
   "defaultVisibility": true,
   "subLayerIds": null,
   "minScale": 5000,
   "maxScale": 0
  },
  {
   "id": 19,
   "name": "Perimetro del tessuto urbano consolidato. La città consolidata",
   "parentLayerId": -1,
   "defaultVisibility": true,
   "subLayerIds": null,
   "minScale": 8000,
   "maxScale": 0
  },
  {
   "id": 20,
   "name": "Fascia di rispetto cimiteriale",
   "parentLayerId": -1,
   "defaultVisibility": true,
   "subLayerIds": null,
   "minScale": 8000,
   "maxScale": 0
  },
  {
   "id": 21,
   "name": "Beni pubblici da oltre 50 anni",
   "parentLayerId": -1,
   "defaultVisibility": true,
   "subLayerIds": null,
   "minScale": 8000,
   "maxScale": 0
  },
  {
   "id": 22,
   "name": "Ambiti attrezzati a servizi",
   "parentLayerId": -1,
   "defaultVisibility": true,
   "subLayerIds": null,
   "minScale": 10000,
   "maxScale": 0
  },
  {
   "id": 23,
   "name": "Ambiti agricoli interni al PLIS del Parco del Lura",
   "parentLayerId": -1,
   "defaultVisibility": true,
   "subLayerIds": null,
   "minScale": 24000,
   "maxScale": 0
  },
  {
   "id": 24,
   "name": "Fascia di rispetto depuratore",
   "parentLayerId": -1,
   "defaultVisibility": true,
   "subLayerIds": null,
   "minScale": 10000,
   "maxScale": 0
  },
  {
   "id": 25,
   "name": "Ambiti boscati",
   "parentLayerId": -1,
   "defaultVisibility": true,
   "subLayerIds": null,
   "minScale": 8000,
   "maxScale": 0
  },
  {
   "id": 26,
   "name": "Lotti soggetti a Pianificazione Attuativa",
   "parentLayerId": -1,
   "defaultVisibility": true,
   "subLayerIds": null,
   "minScale": 8000,
   "maxScale": 0
  },
  {
   "id": 27,
   "name": "Perimetro di PLIS - Valle del Torrente Lura",
   "parentLayerId": -1,
   "defaultVisibility": true,
   "subLayerIds": null,
   "minScale": 24000,
   "maxScale": 0
  },
  {
   "id": 28,
   "name": "Aree di interesse paesistico",
   "parentLayerId": -1,
   "defaultVisibility": true,
   "subLayerIds": null,
   "minScale": 10000,
   "maxScale": 0
  },
  {
   "id": 29,
   "name": "Area di compensazione ambientale",
   "parentLayerId": -1,
   "defaultVisibility": true,
   "subLayerIds": null,
   "minScale": 25000,
   "maxScale": 0
  },
  {
   "id": 30,
   "name": "Zone di rispetto delle acque superficiali e sotterranee destinate al consumo umano",
   "parentLayerId": -1,
   "defaultVisibility": true,
   "subLayerIds": null,
   "minScale": 10000,
   "maxScale": 0
  },
  {
   "id": 31,
   "name": "Vestizione - Piani Attuativi in esecuzione",
   "parentLayerId": -1,
   "defaultVisibility": true,
   "subLayerIds": null,
   "minScale": 8000,
   "maxScale": 0
  },
  {
   "id": 32,
   "name": "#Piani attuativi in esecuzione",
   "parentLayerId": -1,
   "defaultVisibility": true,
   "subLayerIds": null,
   "minScale": 35010,
   "maxScale": 0
  },
  {
   "id": 33,
   "name": "Ambiti di trasformazione",
   "parentLayerId": -1,
   "defaultVisibility": true,
   "subLayerIds": null,
   "minScale": 10000,
   "maxScale": 0
  },
  {
   "id": 34,
   "name": "Fascia di rispetto degli elettrodotti",
   "parentLayerId": -1,
   "defaultVisibility": true,
   "subLayerIds": null,
   "minScale": 8000,
   "maxScale": 0
  },
  {
   "id": 35,
   "name": "Insediamenti o edifici in ambito agricolo",
   "parentLayerId": -1,
   "defaultVisibility": true,
   "subLayerIds": null,
   "minScale": 15000,
   "maxScale": 0
  },
  {
   "id": 36,
   "name": "Azzonamenti",
   "parentLayerId": -1,
   "defaultVisibility": true,
   "subLayerIds": null,
   "minScale": 25000,
   "maxScale": 0
  }
 ],
 "tables": [],
 "spatialReference": {
  "wkid": 102100,
  "latestWkid": 3857
 },
 "singleFusedMapCache": true,
 "tileInfo": {
  "rows": 256,
  "cols": 256,
  "dpi": 96,
  "format": "PNG",
  "compressionQuality": 0,
  "origin": {
   "x": -2.0037508342787E7,
   "y": 2.0037508342787E7
  },
  "spatialReference": {
   "wkid": 102100,
   "latestWkid": 3857
  },
  "lods": [
   {
    "level": 0,
    "resolution": 156543.033928,
    "scale": 5.91657527591555E8
   },
   {
    "level": 1,
    "resolution": 78271.5169639999,
    "scale": 2.95828763795777E8
   },
   {
    "level": 2,
    "resolution": 39135.7584820001,
    "scale": 1.47914381897889E8
   },
   {
    "level": 3,
    "resolution": 19567.8792409999,
    "scale": 7.3957190948944E7
   },
   {
    "level": 4,
    "resolution": 9783.93962049996,
    "scale": 3.6978595474472E7
   },
   {
    "level": 5,
    "resolution": 4891.96981024998,
    "scale": 1.8489297737236E7
   },
   {
    "level": 6,
    "resolution": 2445.98490512499,
    "scale": 9244648.868618
   },
   {
    "level": 7,
    "resolution": 1222.99245256249,
    "scale": 4622324.434309
   },
   {
    "level": 8,
    "resolution": 611.49622628138,
    "scale": 2311162.217155
   },
   {
    "level": 9,
    "resolution": 305.748113140558,
    "scale": 1155581.108577
   },
   {
    "level": 10,
    "resolution": 152.874056570411,
    "scale": 577790.554289
   },
   {
    "level": 11,
    "resolution": 76.4370282850732,
    "scale": 288895.277144
   },
   {
    "level": 12,
    "resolution": 38.2185141425366,
    "scale": 144447.638572
   },
   {
    "level": 13,
    "resolution": 19.1092570712683,
    "scale": 72223.819286
   },
   {
    "level": 14,
    "resolution": 9.55462853563415,
    "scale": 36111.909643
   },
   {
    "level": 15,
    "resolution": 4.77731426794937,
    "scale": 18055.954822
   },
   {
    "level": 16,
    "resolution": 2.38865713397468,
    "scale": 9027.977411
   },
   {
    "level": 17,
    "resolution": 1.19432856685505,
    "scale": 4513.988705
   },
   {
    "level": 18,
    "resolution": 0.597164283559817,
    "scale": 2256.994353
   },
   {
    "level": 19,
    "resolution": 0.298582141647617,
    "scale": 1128.497176
   }
  ]
 },
 "initialExtent": {
  "xmin": 1003051.3441612526,
  "ymin": 5711555.383191762,
  "xmax": 1011290.4856395355,
  "ymax": 5718897.585376166,
  "spatialReference": {
   "wkid": 102100,
   "latestWkid": 3857
  }
 },
 "fullExtent": {
  "xmin": 1003051.3441612526,
  "ymin": 5711555.383191762,
  "xmax": 1011290.4856395355,
  "ymax": 5718897.585376166,
  "spatialReference": {
   "wkid": 102100,
   "latestWkid": 3857
  }
 },
 "minScale": 1155581.108577,
 "maxScale": 1128.497176,
 "units": "esriMeters",
 "supportedImageFormatTypes": "PNG32,PNG24,PNG,JPG,DIB,TIFF,EMF,PS,PDF,GIF,SVG,SVGZ,BMP",
 "documentInfo": {
  "Title": "Piano delle Regole",
  "Author": "Globo srl",
  "Comments": "pdr",
  "Subject": "pdr",
  "Category": "",
  "AntialiasingMode": "None",
  "TextAntialiasingMode": "Force",
  "Keywords": "Edilizia,Pianificazione,Piano delle Regole,Progettazione,Servizi,Territorio,Urbanistica"
 },
 "capabilities": "Map,Query,Data",
 "supportedQueryFormats": "JSON, AMF, geoJSON",
 "exportTilesAllowed": false,
 "supportsDatumTransformation": true,
 "maxRecordCount": 1000,
 "maxImageHeight": 4096,
 "maxImageWidth": 4096,
 "supportedExtensions": ""
}
