{
 "currentVersion": 10.51,
 "serviceDescription": " Il Piano delle regole interessa il tessuto urbano consolidato, ha valenza prescrittiva, non ha limiti temporali e può essere rivisto ogni anno. Definisce le regole insediative per le aree di completamento e per le situazioni già costruite da riqualificare, distinte e definite in rapporto alla combinazione tra funzioni e caratteristiche morfologiche e tipologiche del tessuto insediativo.Il Piano delle regole individua:- gli ambiti del tessuto urbano consolidato, quali insieme delle parti di territorio su cui è già avvenuta l\u2019edificazione o la trasformazione dei suoli, comprendendo in essi le aree libere intercluse o di completamento;- gli immobili assoggettati a tutela in base alla normativa statale e regionale;- le aree e gli edifici a rischio di compromissione o degrado e a rischio di incidente rilevante;- le aree destinate all\u2019agricoltura;- le aree di valore paesaggistico-ambientale ed ecologiche;- le aree non soggette a trasformazione urbanistica.<\/SPAN><\/P><\/DIV><\/DIV><\/DIV>",
 "mapName": "PGT - Tavola C1 Ambiti da assoggettare a specifica disciplina",
 "description": "",
 "copyrightText": "",
 "supportsDynamicLayers": true,
 "layers": [
  {
   "id": 0,
   "name": "_Confine comunale",
   "parentLayerId": -1,
   "defaultVisibility": true,
   "subLayerIds": null,
   "minScale": 1000010,
   "maxScale": 0
  },
  {
   "id": 1,
   "name": "Aree oggetto di interventi di bonifica",
   "parentLayerId": -1,
   "defaultVisibility": true,
   "subLayerIds": [
    2,
    3
   ],
   "minScale": 25010,
   "maxScale": 0
  },
  {
   "id": 2,
   "name": "_Aree oggetto di interventi di bonifica - Vestizione",
   "parentLayerId": 1,
   "defaultVisibility": true,
   "subLayerIds": null,
   "minScale": 25010,
   "maxScale": 0
  },
  {
   "id": 3,
   "name": "#Aree oggetto di interventi di bonifica",
   "parentLayerId": 1,
   "defaultVisibility": true,
   "subLayerIds": null,
   "minScale": 25010,
   "maxScale": 0
  },
  {
   "id": 4,
   "name": "Espansione del torrente Dordo",
   "parentLayerId": -1,
   "defaultVisibility": true,
   "subLayerIds": null,
   "minScale": 25010,
   "maxScale": 0
  },
  {
   "id": 5,
   "name": "Nuclei di antica formazione",
   "parentLayerId": -1,
   "defaultVisibility": true,
   "subLayerIds": null,
   "minScale": 25010,
   "maxScale": 0
  },
  {
   "id": 6,
   "name": "Area di salvaguardia delle captazioni",
   "parentLayerId": -1,
   "defaultVisibility": true,
   "subLayerIds": null,
   "minScale": 25010,
   "maxScale": 0
  },
  {
   "id": 7,
   "name": "Fascia di rispetto cimiteriale",
   "parentLayerId": -1,
   "defaultVisibility": true,
   "subLayerIds": null,
   "minScale": 25010,
   "maxScale": 0
  },
  {
   "id": 8,
   "name": "Fascia di rispetto stradale",
   "parentLayerId": -1,
   "defaultVisibility": true,
   "subLayerIds": null,
   "minScale": 15010,
   "maxScale": 0
  },
  {
   "id": 9,
   "name": "PLIS Parco locale di interesse sovracomunale",
   "parentLayerId": -1,
   "defaultVisibility": true,
   "subLayerIds": null,
   "minScale": 25010,
   "maxScale": 0
  },
  {
   "id": 10,
   "name": "Percorsi pedonali e ciclopedonali",
   "parentLayerId": -1,
   "defaultVisibility": true,
   "subLayerIds": null,
   "minScale": 25010,
   "maxScale": 0
  },
  {
   "id": 11,
   "name": "Elettrodotti",
   "parentLayerId": -1,
   "defaultVisibility": true,
   "subLayerIds": null,
   "minScale": 25010,
   "maxScale": 0
  },
  {
   "id": 12,
   "name": "Canale Adda-Serio-Cherio",
   "parentLayerId": -1,
   "defaultVisibility": true,
   "subLayerIds": null,
   "minScale": 25010,
   "maxScale": 0
  },
  {
   "id": 13,
   "name": "Impianti di telecomunicazioni",
   "parentLayerId": -1,
   "defaultVisibility": true,
   "subLayerIds": null,
   "minScale": 25010,
   "maxScale": 0
  },
  {
   "id": 14,
   "name": "Reticolo idrico",
   "parentLayerId": -1,
   "defaultVisibility": true,
   "subLayerIds": [
    15,
    16
   ],
   "minScale": 25010,
   "maxScale": 0
  },
  {
   "id": 15,
   "name": "_Reticolo idrico - Linee",
   "parentLayerId": 14,
   "defaultVisibility": true,
   "subLayerIds": null,
   "minScale": 25010,
   "maxScale": 0
  },
  {
   "id": 16,
   "name": "#Reticolo idrico",
   "parentLayerId": 14,
   "defaultVisibility": true,
   "subLayerIds": null,
   "minScale": 25010,
   "maxScale": 0
  },
  {
   "id": 17,
   "name": "Distanze di prima approssimazione - elettrodotti",
   "parentLayerId": -1,
   "defaultVisibility": true,
   "subLayerIds": null,
   "minScale": 25010,
   "maxScale": 0
  },
  {
   "id": 18,
   "name": "Fasce di rispetto reticolo idrico",
   "parentLayerId": -1,
   "defaultVisibility": true,
   "subLayerIds": null,
   "minScale": 25010,
   "maxScale": 0
  },
  {
   "id": 19,
   "name": "Centro abitato",
   "parentLayerId": -1,
   "defaultVisibility": true,
   "subLayerIds": null,
   "minScale": 25010,
   "maxScale": 0
  },
  {
   "id": 20,
   "name": "PA in attuazione",
   "parentLayerId": -1,
   "defaultVisibility": true,
   "subLayerIds": null,
   "minScale": 25010,
   "maxScale": 0
  },
  {
   "id": 21,
   "name": "Rete ferroviaria e tramviaria (PTCP)",
   "parentLayerId": -1,
   "defaultVisibility": true,
   "subLayerIds": null,
   "minScale": 25010,
   "maxScale": 0
  },
  {
   "id": 22,
   "name": "Ambiti soggetti alla disciplina del Documento di Piano",
   "parentLayerId": -1,
   "defaultVisibility": true,
   "subLayerIds": null,
   "minScale": 100010,
   "maxScale": 0
  },
  {
   "id": 23,
   "name": "Comparti produttivi",
   "parentLayerId": -1,
   "defaultVisibility": true,
   "subLayerIds": null,
   "minScale": 25010,
   "maxScale": 0
  },
  {
   "id": 24,
   "name": "Ambiti residenziali",
   "parentLayerId": -1,
   "defaultVisibility": true,
   "subLayerIds": null,
   "minScale": 100010,
   "maxScale": 0
  },
  {
   "id": 25,
   "name": "Ambiti produttivi",
   "parentLayerId": -1,
   "defaultVisibility": true,
   "subLayerIds": null,
   "minScale": 100010,
   "maxScale": 0
  },
  {
   "id": 26,
   "name": "Ambiti soggetti alla disciplina del Piano dei Servizi",
   "parentLayerId": -1,
   "defaultVisibility": true,
   "subLayerIds": null,
   "minScale": 100010,
   "maxScale": 0
  },
  {
   "id": 27,
   "name": "Sistema della mobilità",
   "parentLayerId": -1,
   "defaultVisibility": true,
   "subLayerIds": null,
   "minScale": 100010,
   "maxScale": 0
  },
  {
   "id": 28,
   "name": "Ambiti agricoli e di tutela ambientale e paesistica",
   "parentLayerId": -1,
   "defaultVisibility": true,
   "subLayerIds": null,
   "minScale": 100010,
   "maxScale": 0
  }
 ],
 "tables": [],
 "spatialReference": {
  "wkid": 102100,
  "latestWkid": 3857
 },
 "singleFusedMapCache": true,
 "tileInfo": {
  "rows": 256,
  "cols": 256,
  "dpi": 96,
  "format": "PNG",
  "compressionQuality": 0,
  "origin": {
   "x": -2.0037508342787E7,
   "y": 2.0037508342787E7
  },
  "spatialReference": {
   "wkid": 102100,
   "latestWkid": 3857
  },
  "lods": [
   {
    "level": 0,
    "resolution": 156543.03392800014,
    "scale": 5.91657527591555E8
   },
   {
    "level": 1,
    "resolution": 78271.51696399994,
    "scale": 2.95828763795777E8
   },
   {
    "level": 2,
    "resolution": 39135.75848200009,
    "scale": 1.47914381897889E8
   },
   {
    "level": 3,
    "resolution": 19567.87924099992,
    "scale": 7.3957190948944E7
   },
   {
    "level": 4,
    "resolution": 9783.93962049996,
    "scale": 3.6978595474472E7
   },
   {
    "level": 5,
    "resolution": 4891.96981024998,
    "scale": 1.8489297737236E7
   },
   {
    "level": 6,
    "resolution": 2445.98490512499,
    "scale": 9244648.868618
   },
   {
    "level": 7,
    "resolution": 1222.992452562495,
    "scale": 4622324.434309
   },
   {
    "level": 8,
    "resolution": 611.4962262813797,
    "scale": 2311162.217155
   },
   {
    "level": 9,
    "resolution": 305.74811314055756,
    "scale": 1155581.108577
   },
   {
    "level": 10,
    "resolution": 152.87405657041106,
    "scale": 577790.554289
   },
   {
    "level": 11,
    "resolution": 76.43702828507324,
    "scale": 288895.277144
   },
   {
    "level": 12,
    "resolution": 38.21851414253662,
    "scale": 144447.638572
   },
   {
    "level": 13,
    "resolution": 19.10925707126831,
    "scale": 72223.819286
   },
   {
    "level": 14,
    "resolution": 9.554628535634155,
    "scale": 36111.909643
   },
   {
    "level": 15,
    "resolution": 4.77731426794937,
    "scale": 18055.954822
   },
   {
    "level": 16,
    "resolution": 2.388657133974685,
    "scale": 9027.977411
   },
   {
    "level": 17,
    "resolution": 1.1943285668550503,
    "scale": 4513.988705
   },
   {
    "level": 18,
    "resolution": 0.5971642835598172,
    "scale": 2256.994353
   },
   {
    "level": 19,
    "resolution": 0.29858214164761665,
    "scale": 1128.497176
   }
  ]
 },
 "initialExtent": {
  "xmin": 1054479.320153397,
  "ymin": 5721640.640940583,
  "xmax": 1070173.619851222,
  "ymax": 5727299.596165376,
  "spatialReference": {
   "wkid": 102100,
   "latestWkid": 3857
  }
 },
 "fullExtent": {
  "xmin": 1059967.1722636682,
  "ymin": 5722840.3717699805,
  "xmax": 1065371.1083391092,
  "ymax": 5726225.860266909,
  "spatialReference": {
   "wkid": 102100,
   "latestWkid": 3857
  }
 },
 "minScale": 9244648.868618,
 "maxScale": 1128.497176,
 "units": "esriMeters",
 "supportedImageFormatTypes": "PNG32,PNG24,PNG,JPG,DIB,TIFF,EMF,PS,PDF,GIF,SVG,SVGZ,BMP",
 "documentInfo": {
  "Title": "PGT - Tavola C1 Ambiti da assoggettare a specifica disciplina",
  "Author": "Globo Srl",
  "Comments": "PGT - Tavola C1 Ambiti da assoggettare a specifica disciplina",
  "Subject": "PGT - Tavola C1 Ambiti da assoggettare a specifica disciplina",
  "Category": "",
  "AntialiasingMode": "None",
  "TextAntialiasingMode": "Force",
  "Keywords": "Ambiti,Territorio,Urbanistica e pianificazione"
 },
 "capabilities": "Map,Query,Data",
 "supportedQueryFormats": "JSON, AMF, geoJSON",
 "exportTilesAllowed": false,
 "datumTransformations": [
  {
   "geoTransforms": [
    {
     "wkid": 1660,
     "latestWkid": 1660,
     "transformForward": true,
     "name": "Monte_Mario_To_WGS_1984_4"
    }
   ]
  },
  {
   "geoTransforms": [
    {
     "wkid": 1660,
     "latestWkid": 1660,
     "transformForward": false,
     "name": "Monte_Mario_To_WGS_1984_4"
    }
   ]
  }
 ],
 "supportsDatumTransformation": true,
 "maxRecordCount": 1000,
 "maxImageHeight": 4096,
 "maxImageWidth": 4096,
 "supportedExtensions": ""
}
