{ "currentVersion": 10.51, "serviceDescription": "
Si definiscono vincoli le limitazioni alla libera disponibilità di un bene. La tavola individua le aree soggette a prescrizioni derivanti da vincoli ricognitivi e vincoli conformativi.<\/SPAN><\/P> I vincoli ricognitivi interessano intere categorie di beni che meritano una tutela particolare per la loro stessa natura, o zone che per le loro specifiche caratteristiche devono essere trattate in maniera differente dal restante territorio. Alcuni esempi sono il vincolo idrogeologico, le tutele dei beni storici e dei beni ambientali (parchi, riserve naturali, zone alpine, boschi, fiumi, ecc.).<\/SPAN><\/P> I vincoli conformativi derivano da leggi specifiche che tutelano la funzionalità di beni di interesse pubblico e devono essere recepiti dai piani urbanistici. Alcuni esempi sono le fasce di rispetto stradale, cimiteriale, degli elettrodotti e dei depuratori.<\/SPAN><\/P><\/DIV><\/DIV><\/DIV>",
"mapName": "Tavola dei vincoli",
"description": "Tavola dei vincoli",
"copyrightText": "",
"supportsDynamicLayers": false,
"layers": [
{
"id": 0,
"name": "_#Confine comunale",
"parentLayerId": -1,
"defaultVisibility": true,
"subLayerIds": null,
"minScale": 10000010,
"maxScale": 25011
},
{
"id": 1,
"name": "_Confine comunale",
"parentLayerId": -1,
"defaultVisibility": true,
"subLayerIds": null,
"minScale": 25010,
"maxScale": 0
},
{
"id": 2,
"name": "Limite del centro abitato",
"parentLayerId": -1,
"defaultVisibility": true,
"subLayerIds": null,
"minScale": 25010,
"maxScale": 0
},
{
"id": 3,
"name": "#Vincolo idrogeologico",
"parentLayerId": -1,
"defaultVisibility": true,
"subLayerIds": null,
"minScale": 25010,
"maxScale": 0
},
{
"id": 4,
"name": "_Vincolo idrogeologico",
"parentLayerId": -1,
"defaultVisibility": true,
"subLayerIds": null,
"minScale": 25010,
"maxScale": 0
},
{
"id": 5,
"name": "Confine Parco dei Colli",
"parentLayerId": -1,
"defaultVisibility": true,
"subLayerIds": null,
"minScale": 100010,
"maxScale": 0
},
{
"id": 6,
"name": "Perimetro di iniziativa comunale",
"parentLayerId": -1,
"defaultVisibility": true,
"subLayerIds": null,
"minScale": 100010,
"maxScale": 0
},
{
"id": 7,
"name": "Plis Serio nord",
"parentLayerId": -1,
"defaultVisibility": true,
"subLayerIds": null,
"minScale": 100010,
"maxScale": 0
},
{
"id": 8,
"name": "Plis Naturalserio",
"parentLayerId": -1,
"defaultVisibility": true,
"subLayerIds": null,
"minScale": 100010,
"maxScale": 0
},
{
"id": 9,
"name": "Classe di fattibilità geologica 4 - da studio geologico",
"parentLayerId": -1,
"defaultVisibility": true,
"subLayerIds": null,
"minScale": 25010,
"maxScale": 0
},
{
"id": 10,
"name": "_Fascia di rispetto idraulico fiume Serio",
"parentLayerId": -1,
"defaultVisibility": true,
"subLayerIds": null,
"minScale": 25010,
"maxScale": 0
},
{
"id": 11,
"name": "#Fascia di rispetto idraulico fiume Serio",
"parentLayerId": -1,
"defaultVisibility": true,
"subLayerIds": null,
"minScale": 25010,
"maxScale": 0
},
{
"id": 12,
"name": "Elettrodotto Villa di Serio - Calusco 132 KW",
"parentLayerId": -1,
"defaultVisibility": true,
"subLayerIds": null,
"minScale": 25010,
"maxScale": 0
},
{
"id": 13,
"name": "Linea bassa tensione 400 W CEI EN 50110 - classe 11/48",
"parentLayerId": -1,
"defaultVisibility": true,
"subLayerIds": null,
"minScale": 25010,
"maxScale": 0
},
{
"id": 14,
"name": "Fascia di rispetto elettrodotti",
"parentLayerId": -1,
"defaultVisibility": true,
"subLayerIds": null,
"minScale": 25010,
"maxScale": 0
},
{
"id": 15,
"name": "Aree di conoide attivo parzialmente protette",
"parentLayerId": -1,
"defaultVisibility": true,
"subLayerIds": null,
"minScale": 25010,
"maxScale": 0
},
{
"id": 16,
"name": "Fasce di rispetto del reticolo idrico",
"parentLayerId": -1,
"defaultVisibility": true,
"subLayerIds": null,
"minScale": 25010,
"maxScale": 0
},
{
"id": 17,
"name": "PAI delimitazione fasce fluviali",
"parentLayerId": -1,
"defaultVisibility": true,
"subLayerIds": null,
"minScale": 25010,
"maxScale": 0
},
{
"id": 18,
"name": "_Fasce di rispetto stradale",
"parentLayerId": -1,
"defaultVisibility": true,
"subLayerIds": null,
"minScale": 25010,
"maxScale": 0
},
{
"id": 19,
"name": "#Fasce di rispetto stradale",
"parentLayerId": -1,
"defaultVisibility": true,
"subLayerIds": null,
"minScale": 25010,
"maxScale": 0
},
{
"id": 20,
"name": "Fascia di rispetto pozzi",
"parentLayerId": -1,
"defaultVisibility": true,
"subLayerIds": null,
"minScale": 25010,
"maxScale": 0
},
{
"id": 21,
"name": "Area di rispetto impianto di depurazione",
"parentLayerId": -1,
"defaultVisibility": true,
"subLayerIds": null,
"minScale": 25010,
"maxScale": 0
},
{
"id": 22,
"name": "_Beni culturali",
"parentLayerId": -1,
"defaultVisibility": true,
"subLayerIds": null,
"minScale": 25010,
"maxScale": 0
},
{
"id": 23,
"name": "Beni culturali",
"parentLayerId": -1,
"defaultVisibility": true,
"subLayerIds": null,
"minScale": 25010,
"maxScale": 0
},
{
"id": 24,
"name": "Boschi e foreste",
"parentLayerId": -1,
"defaultVisibility": true,
"subLayerIds": null,
"minScale": 100010,
"maxScale": 0
},
{
"id": 25,
"name": "_#Edifici aerofotogrammetrico",
"parentLayerId": -1,
"defaultVisibility": true,
"subLayerIds": null,
"minScale": 25010,
"maxScale": 0
},
{
"id": 26,
"name": "_#Linee aerofotogrammetrico",
"parentLayerId": -1,
"defaultVisibility": true,
"subLayerIds": null,
"minScale": 25010,
"maxScale": 0
},
{
"id": 27,
"name": "Zone di interesse storico, artistico e ambientale - da PRG",
"parentLayerId": -1,
"defaultVisibility": true,
"subLayerIds": null,
"minScale": 100010,
"maxScale": 0
},
{
"id": 28,
"name": "Fascia di rispetto cimiteriale",
"parentLayerId": -1,
"defaultVisibility": true,
"subLayerIds": null,
"minScale": 100010,
"maxScale": 0
},
{
"id": 29,
"name": "Bellezze d'insieme - Giardino di Via Chignola (D.M. 16.11.62)",
"parentLayerId": -1,
"defaultVisibility": true,
"subLayerIds": null,
"minScale": 100010,
"maxScale": 0
},
{
"id": 30,
"name": "Parchi e giardini privati - da PRG",
"parentLayerId": -1,
"defaultVisibility": true,
"subLayerIds": null,
"minScale": 100010,
"maxScale": 0
},
{
"id": 31,
"name": "Parchi e riserve naturali",
"parentLayerId": -1,
"defaultVisibility": true,
"subLayerIds": null,
"minScale": 100010,
"maxScale": 0
},
{
"id": 32,
"name": "Decreto di interesse storico artistico e ambientale - Roggia Serio",
"parentLayerId": -1,
"defaultVisibility": true,
"subLayerIds": null,
"minScale": 25010,
"maxScale": 0
},
{
"id": 33,
"name": "Fiumi e corsi d'acqua",
"parentLayerId": -1,
"defaultVisibility": true,
"subLayerIds": null,
"minScale": 100010,
"maxScale": 0
},
{
"id": 34,
"name": "Zone non soggette a vincolo",
"parentLayerId": -1,
"defaultVisibility": true,
"subLayerIds": null,
"minScale": 100010,
"maxScale": 0
},
{
"id": 35,
"name": "Fiumi, torrenti e corsi d'acqua - Fascia di rispetto di 150 m",
"parentLayerId": -1,
"defaultVisibility": true,
"subLayerIds": null,
"minScale": 100010,
"maxScale": 0
},
{
"id": 36,
"name": "_#Maschera",
"parentLayerId": -1,
"defaultVisibility": true,
"subLayerIds": null,
"minScale": 25010,
"maxScale": 0
}
],
"tables": [],
"spatialReference": {
"wkid": 102100,
"latestWkid": 3857
},
"singleFusedMapCache": true,
"tileInfo": {
"rows": 256,
"cols": 256,
"dpi": 96,
"format": "PNG",
"compressionQuality": 0,
"origin": {
"x": -2.0037508342787E7,
"y": 2.0037508342787E7
},
"spatialReference": {
"wkid": 102100,
"latestWkid": 3857
},
"lods": [
{
"level": 0,
"resolution": 156543.033928,
"scale": 5.91657527591555E8
},
{
"level": 1,
"resolution": 78271.5169639999,
"scale": 2.95828763795777E8
},
{
"level": 2,
"resolution": 39135.7584820001,
"scale": 1.47914381897889E8
},
{
"level": 3,
"resolution": 19567.8792409999,
"scale": 7.3957190948944E7
},
{
"level": 4,
"resolution": 9783.93962049996,
"scale": 3.6978595474472E7
},
{
"level": 5,
"resolution": 4891.96981024998,
"scale": 1.8489297737236E7
},
{
"level": 6,
"resolution": 2445.98490512499,
"scale": 9244648.868618
},
{
"level": 7,
"resolution": 1222.99245256249,
"scale": 4622324.434309
},
{
"level": 8,
"resolution": 611.49622628138,
"scale": 2311162.217155
},
{
"level": 9,
"resolution": 305.748113140558,
"scale": 1155581.108577
},
{
"level": 10,
"resolution": 152.874056570411,
"scale": 577790.554289
},
{
"level": 11,
"resolution": 76.4370282850732,
"scale": 288895.277144
},
{
"level": 12,
"resolution": 38.2185141425366,
"scale": 144447.638572
},
{
"level": 13,
"resolution": 19.1092570712683,
"scale": 72223.819286
},
{
"level": 14,
"resolution": 9.55462853563415,
"scale": 36111.909643
},
{
"level": 15,
"resolution": 4.77731426794937,
"scale": 18055.954822
},
{
"level": 16,
"resolution": 2.38865713397468,
"scale": 9027.977411
},
{
"level": 17,
"resolution": 1.19432856685505,
"scale": 4513.988705
},
{
"level": 18,
"resolution": 0.597164283559817,
"scale": 2256.994353
},
{
"level": 19,
"resolution": 0.298582141647617,
"scale": 1128.497176
}
]
},
"initialExtent": {
"xmin": 1062573.1555614541,
"ymin": 5733575.357684224,
"xmax": 1099191.5621316005,
"ymax": 5749767.890069288,
"spatialReference": {
"wkid": 102100,
"latestWkid": 3857
}
},
"fullExtent": {
"xmin": 1078858.2319032955,
"ymin": 5733987.012734085,
"xmax": 1082958.0686227458,
"ymax": 5739758.036965408,
"spatialReference": {
"wkid": 102100,
"latestWkid": 3857
}
},
"minScale": 1.8489297737236E7,
"maxScale": 1128.497176,
"units": "esriMeters",
"supportedImageFormatTypes": "PNG32,PNG24,PNG,JPG,DIB,TIFF,EMF,PS,PDF,GIF,SVG,SVGZ,BMP",
"documentInfo": {
"Title": "PGT Ranica - Tavola dei vincoli",
"Author": "",
"Comments": "PGT Ranica - Tavola dei vincoli",
"Subject": "PGT di Ranica - Documento di Piano - Tavola dei vincoli",
"Category": "",
"AntialiasingMode": "None",
"TextAntialiasingMode": "Force",
"Keywords": "Edilizia,Geoportale,Urbanistica e pianificazione,Vincolistica"
},
"capabilities": "Map,Query,Data",
"supportedQueryFormats": "JSON, AMF, geoJSON",
"exportTilesAllowed": false,
"supportsDatumTransformation": true,
"maxRecordCount": 1000,
"maxImageHeight": 4096,
"maxImageWidth": 4096,
"supportedExtensions": ""
}