{ "currentVersion": 10.51, "serviceDescription": "
In attuazione della Legge 26 ottobre 1995, n. 447 e della Legge Regionale 10 agosto 2001, n. 13 tutti i comuni sono tenuti a redigere degli studi di classificazione acustica per le varie parti del loro territorio comunale. Le linee guida regionali, attuative dell\u2019articolo 2 comma 3 della Legge Regionale 10 agosto 2001, n. 13, approvate con DGR 9777/2002 forniscono i criteri tecnici di dettaglio per la redazione della classificazione acustica del territorio comunale.<\/SPAN><\/P> Tale classificazione in zone acustiche differenziate fornisce il quadro di riferimento per valutare i livelli di rumore presenti o previsti nel territorio comunale e, quindi, la base per programmare interventi e misure di controllo o riduzione dell'inquinamento acustico.<\/SPAN><\/P> La zonizzazione è inoltre un<\/SPAN>o strumento indispensabile <\/SPAN>di prevenzione per una corretta pianificazione, ai fini della tutela dall'inquinamento acustico, delle nuove aree di sviluppo urbanistico o per la verifica di compatibilità dei nuovi insediamenti o infrastrutture in aree già urbanizzate.<\/SPAN><\/P> La zonizzazione acustica del territorio comunale è parte integrante del Piano di Governo del Territorio e non deve essere considerata come una \"fotografia\" dei livelli di pressione sonora presenti sul territorio, quanto invece:<\/SPAN><\/P> - uno strumento di pianificazione utilizzato per raggiungere determinate situazioni di clima acustico coerenti con la destinazione d\u2019uso prevalente di una determinata zona (residenza, commercio, attività produttiva);<\/SPAN><\/P> - uno strumento per risanare situazioni di degrado dal punto di vista dell\u2019inquinamento acustico, mediante la valutazione dei limiti di qualità e di attenzione, e l\u2019eventuale successiva adozione di piani comunali di risanamento acustico.<\/SPAN><\/P> Il Geoportale consente la navigazione nelle tavole principali della zonizzazione acustica e la consultazione interattiva della Normativa attraverso l'interrogazione della mappa.<\/SPAN><\/P><\/DIV><\/DIV><\/DIV>",
"mapName": "Zonizzazione acustica",
"description": "",
"copyrightText": "",
"supportsDynamicLayers": true,
"layers": [
{
"id": 1,
"name": "Fenometrie",
"parentLayerId": -1,
"defaultVisibility": true,
"subLayerIds": null,
"minScale": 55000,
"maxScale": 0
},
{
"id": 2,
"name": "_Fasce Stradali",
"parentLayerId": -1,
"defaultVisibility": true,
"subLayerIds": null,
"minScale": 35000,
"maxScale": 0
},
{
"id": 3,
"name": "#Fasce Stradali",
"parentLayerId": -1,
"defaultVisibility": true,
"subLayerIds": null,
"minScale": 35000,
"maxScale": 0
},
{
"id": 4,
"name": "_Fasce ferroviarie",
"parentLayerId": -1,
"defaultVisibility": true,
"subLayerIds": null,
"minScale": 35000,
"maxScale": 0
},
{
"id": 5,
"name": "#Fasce ferroviarie",
"parentLayerId": -1,
"defaultVisibility": true,
"subLayerIds": null,
"minScale": 35000,
"maxScale": 0
},
{
"id": 6,
"name": "Aree destinate a spettacoli all'aperto (ex L.447/95 art.6)",
"parentLayerId": -1,
"defaultVisibility": true,
"subLayerIds": null,
"minScale": 40000,
"maxScale": 0
},
{
"id": 7,
"name": "Classificazione acustica",
"parentLayerId": -1,
"defaultVisibility": true,
"subLayerIds": null,
"minScale": 35000,
"maxScale": 0
}
],
"tables": [],
"spatialReference": {
"wkid": 102100,
"latestWkid": 3857
},
"singleFusedMapCache": true,
"tileInfo": {
"rows": 256,
"cols": 256,
"dpi": 96,
"format": "PNG",
"compressionQuality": 0,
"origin": {
"x": -2.0037508342787E7,
"y": 2.0037508342787E7
},
"spatialReference": {
"wkid": 102100,
"latestWkid": 3857
},
"lods": [
{
"level": 0,
"resolution": 156543.033928,
"scale": 5.91657527591555E8
},
{
"level": 1,
"resolution": 78271.5169639999,
"scale": 2.95828763795777E8
},
{
"level": 2,
"resolution": 39135.7584820001,
"scale": 1.47914381897889E8
},
{
"level": 3,
"resolution": 19567.8792409999,
"scale": 7.3957190948944E7
},
{
"level": 4,
"resolution": 9783.93962049996,
"scale": 3.6978595474472E7
},
{
"level": 5,
"resolution": 4891.96981024998,
"scale": 1.8489297737236E7
},
{
"level": 6,
"resolution": 2445.98490512499,
"scale": 9244648.868618
},
{
"level": 7,
"resolution": 1222.99245256249,
"scale": 4622324.434309
},
{
"level": 8,
"resolution": 611.49622628138,
"scale": 2311162.217155
},
{
"level": 9,
"resolution": 305.748113140558,
"scale": 1155581.108577
},
{
"level": 10,
"resolution": 152.874056570411,
"scale": 577790.554289
},
{
"level": 11,
"resolution": 76.4370282850732,
"scale": 288895.277144
},
{
"level": 12,
"resolution": 38.2185141425366,
"scale": 144447.638572
},
{
"level": 13,
"resolution": 19.1092570712683,
"scale": 72223.819286
},
{
"level": 14,
"resolution": 9.55462853563415,
"scale": 36111.909643
},
{
"level": 15,
"resolution": 4.77731426794937,
"scale": 18055.954822
},
{
"level": 16,
"resolution": 2.38865713397468,
"scale": 9027.977411
},
{
"level": 17,
"resolution": 1.19432856685505,
"scale": 4513.988705
},
{
"level": 18,
"resolution": 0.597164283559817,
"scale": 2256.994353
},
{
"level": 19,
"resolution": 0.298582141647617,
"scale": 1128.497176
}
]
},
"initialExtent": {
"xmin": 1063526.6509317406,
"ymin": 5704659.932312543,
"xmax": 1071828.5210838723,
"ymax": 5709953.013795575,
"spatialReference": {
"wkid": 102100,
"latestWkid": 3857
}
},
"fullExtent": {
"xmin": 1062765.7555478234,
"ymin": 5700336.924935844,
"xmax": 1072588.1262490314,
"ymax": 5711686.123213893,
"spatialReference": {
"wkid": 102100,
"latestWkid": 3857
}
},
"minScale": 1155581.108577,
"maxScale": 1128.497176,
"units": "esriMeters",
"supportedImageFormatTypes": "PNG32,PNG24,PNG,JPG,DIB,TIFF,EMF,PS,PDF,GIF,SVG,SVGZ,BMP",
"documentInfo": {
"Title": "zonizzazione_acustica",
"Author": "",
"Comments": "",
"Subject": "",
"Category": "",
"AntialiasingMode": "None",
"TextAntialiasingMode": "Force",
"Keywords": "Edilizia,Geoportale,Urbanistica e pianificazione"
},
"capabilities": "Map,Query,Data",
"supportedQueryFormats": "JSON, AMF, geoJSON",
"exportTilesAllowed": false,
"datumTransformations": [
{
"geoTransforms": [
{
"wkid": 108001,
"latestWkid": 1241,
"transformForward": true,
"name": "NAD_1927_To_NAD_1983_NADCON"
}
]
},
{
"geoTransforms": [
{
"wkid": 108001,
"latestWkid": 1241,
"transformForward": false,
"name": "NAD_1927_To_NAD_1983_NADCON"
}
]
},
{
"geoTransforms": [
{
"wkid": 1660,
"latestWkid": 1660,
"transformForward": true,
"name": "Monte_Mario_To_WGS_1984_4"
}
]
},
{
"geoTransforms": [
{
"wkid": 1660,
"latestWkid": 1660,
"transformForward": false,
"name": "Monte_Mario_To_WGS_1984_4"
}
]
}
],
"supportsDatumTransformation": true,
"maxRecordCount": 1000,
"maxImageHeight": 4096,
"maxImageWidth": 4096,
"supportedExtensions": ""
}