Le basi cartografiche sono state prodotte utilizzando specifiche tecniche omogenee, definite a livello regionale, in conformità a quelle definite dall'Intesa Stato, regioni, enti locali sul sistema cartografico di riferimento (IntesaGIS), in materia di basi geografiche di interesse generale e dal Comitato tecnico nazionale per il coordinamento informatico dei dati territoriali. Questi prodotti costituiscono lo strumento fondamentale per organizzare e gestire i dati territoriali all'interno dei sistemi informativi degli enti locali. Una base cartografica così organizzata risulta, infatti, fondamentale per le attività di pianificazione urbanistica ed infrastrutturale, per la conoscenza dell'assetto territoriale, la gestione del patrimonio immobiliare, la gestione della fiscalità, la valorizzazione e il censimento dei beni culturali e ambientali, nonchè l'efficiente gestione dei servizi alle persone.<\/SPAN><\/P>Il Data Base Topografico ai sensi della <\/SPAN>Legge regionale 11 marzo 2005, n. 12 <\/SPAN><\/A>ha le seguenti finalità:<\/SPAN>f<\/SPAN>avorire la produzione di un'aggiornata cartografia tecnica digitale, nel formato di Data Base Topografico, da parte degli enti locali, da utilizzare come base geografica di riferimento all'interno dei sistemi informativi territoriali;<\/SPAN>promuovere la realizzazione diffusa di cartografia tecnica in formato digitale, tecnologicamente aggiornata, utilizzabile dai diversi soggetti che partecipano al SIT integrato in un contesto di ottimizzazione delle risorse;<\/SPAN>creare le condizioni per un progressivo aggiornamento della Carta Tecnica Regionale alla scala 1:10.000, prodotta ai sensi della Legge Regionale 4 giugno 1979, n. 29, che costituisce la base di riferimento per i dati di interesse regionale del SIT integrato.<\/SPAN><\/P><\/DIV><\/DIV><\/DIV>",
"mapName": "Aereofotogrammetrico",
"description": "",
"copyrightText": "",
"supportsDynamicLayers": true,
"layers": [
{
"id": 0,
"name": "A188_Base",
"parentLayerId": -1,
"defaultVisibility": true,
"subLayerIds": null,
"minScale": 150000,
"maxScale": 0
},
{
"id": 1,
"name": "E116_Base",
"parentLayerId": -1,
"defaultVisibility": true,
"subLayerIds": null,
"minScale": 150000,
"maxScale": 0
},
{
"id": 2,
"name": "D576_Base",
"parentLayerId": -1,
"defaultVisibility": true,
"subLayerIds": null,
"minScale": 150000,
"maxScale": 0
},
{
"id": 3,
"name": "C312_Base",
"parentLayerId": -1,
"defaultVisibility": true,
"subLayerIds": null,
"minScale": 150000,
"maxScale": 0
},
{
"id": 4,
"name": "B817_Base",
"parentLayerId": -1,
"defaultVisibility": true,
"subLayerIds": null,
"minScale": 150000,
"maxScale": 0
},
{
"id": 5,
"name": "A034_Base",
"parentLayerId": -1,
"defaultVisibility": true,
"subLayerIds": null,
"minScale": 150000,
"maxScale": 0
},
{
"id": 6,
"name": "M070_Base",
"parentLayerId": -1,
"defaultVisibility": true,
"subLayerIds": null,
"minScale": 150000,
"maxScale": 0
},
{
"id": 7,
"name": "_#Maschera",
"parentLayerId": -1,
"defaultVisibility": true,
"subLayerIds": null,
"minScale": 5000,
"maxScale": 0
}
],
"tables": [],
"spatialReference": {
"wkid": 102100,
"latestWkid": 3857
},
"singleFusedMapCache": true,
"tileInfo": {
"rows": 256,
"cols": 256,
"dpi": 96,
"format": "PNG",
"compressionQuality": 0,
"origin": {
"x": -2.0037508342787E7,
"y": 2.0037508342787E7
},
"spatialReference": {
"wkid": 102100,
"latestWkid": 3857
},
"lods": [
{
"level": 0,
"resolution": 156543.033928,
"scale": 5.91657527591555E8
},
{
"level": 1,
"resolution": 78271.5169639999,
"scale": 2.95828763795777E8
},
{
"level": 2,
"resolution": 39135.7584820001,
"scale": 1.47914381897889E8
},
{
"level": 3,
"resolution": 19567.8792409999,
"scale": 7.3957190948944E7
},
{
"level": 4,
"resolution": 9783.93962049996,
"scale": 3.6978595474472E7
},
{
"level": 5,
"resolution": 4891.96981024998,
"scale": 1.8489297737236E7
},
{
"level": 6,
"resolution": 2445.98490512499,
"scale": 9244648.868618
},
{
"level": 7,
"resolution": 1222.99245256249,
"scale": 4622324.434309
},
{
"level": 8,
"resolution": 611.49622628138,
"scale": 2311162.217155
},
{
"level": 9,
"resolution": 305.748113140558,
"scale": 1155581.108577
},
{
"level": 10,
"resolution": 152.874056570411,
"scale": 577790.554289
},
{
"level": 11,
"resolution": 76.4370282850732,
"scale": 288895.277144
},
{
"level": 12,
"resolution": 38.2185141425366,
"scale": 144447.638572
},
{
"level": 13,
"resolution": 19.1092570712683,
"scale": 72223.819286
},
{
"level": 14,
"resolution": 9.55462853563415,
"scale": 36111.909643
},
{
"level": 15,
"resolution": 4.77731426794937,
"scale": 18055.954822
},
{
"level": 16,
"resolution": 2.38865713397468,
"scale": 9027.977411
},
{
"level": 17,
"resolution": 1.19432856685505,
"scale": 4513.988705
},
{
"level": 18,
"resolution": 0.597164283559817,
"scale": 2256.994353
},
{
"level": 19,
"resolution": 0.298582141647617,
"scale": 1128.497176
}
]
},
"initialExtent": {
"xmin": 1125544.3047884018,
"ymin": 5663123.97610969,
"xmax": 1174894.6966468268,
"ymax": 5694588.651000944,
"spatialReference": {
"wkid": 102100,
"latestWkid": 3857
}
},
"fullExtent": {
"xmin": 1125544.3047884016,
"ymin": 5647720.979061474,
"xmax": 1174894.6966468268,
"ymax": 5694588.651000944,
"spatialReference": {
"wkid": 102100,
"latestWkid": 3857
}
},
"minScale": 1155581.108577,
"maxScale": 1128.497176,
"units": "esriMeters",
"supportedImageFormatTypes": "PNG32,PNG24,PNG,JPG,DIB,TIFF,EMF,PS,PDF,GIF,SVG,SVGZ,BMP",
"documentInfo": {
"Title": "",
"Author": "",
"Comments": "aereofoto",
"Subject": "aereofoto",
"Category": "",
"AntialiasingMode": "None",
"TextAntialiasingMode": "Force",
"Keywords": "Edilizia,Lavori pubblici e mobilità urbana,Geoportale,Urbanistica e pianificazione"
},
"capabilities": "Map,Query,Data",
"supportedQueryFormats": "JSON, AMF, geoJSON",
"exportTilesAllowed": false,
"supportsDatumTransformation": true,
"maxRecordCount": 1000,
"maxImageHeight": 4096,
"maxImageWidth": 4096,
"supportedExtensions": ""
}