{ "currentVersion": 10.51, "serviceDescription": "
Il Piano delle regole interessa il tessuto urbano consolidato, ha valenza prescrittiva, non ha limiti temporali e può essere rivisto ogni anno. Definisce le regole insediative per le aree di completamento e per le situazioni già costruite da riqualificare, distinte e definite in rapporto alla combinazione tra funzioni e caratteristiche morfologiche e tipologiche del tessuto insediativo.<\/SPAN><\/P> Il Piano delle regole individua:<\/SPAN><\/P> - <\/SPAN>gli ambiti del tessuto urbano consolidato, quali insieme delle parti di territorio su cui è già avvenuta l\u2019edificazione o la trasformazione dei suoli, comprendendo in essi le aree libere intercluse o di completamento;<\/SPAN><\/P> - <\/SPAN>gli immobili assoggettati a tutela in base alla normativa statale e regionale;<\/SPAN><\/P> - <\/SPAN>le aree e gli edifici a rischio di compromissione o degrado e a rischio di incidente rilevante;<\/SPAN><\/P> - <\/SPAN>le aree destinate all\u2019agricoltura;<\/SPAN><\/P> - <\/SPAN>le aree di valore paesaggistico-ambientale ed ecologiche;<\/SPAN><\/P> - <\/SPAN>le aree non soggette a trasformazione urbanistica.<\/SPAN><\/P><\/DIV><\/DIV><\/DIV>",
"mapName": "Carta della disciplina delle zone urbanistiche",
"description": "",
"copyrightText": "",
"supportsDynamicLayers": true,
"layers": [
{
"id": 0,
"name": "_Limite amministrativo",
"parentLayerId": -1,
"defaultVisibility": true,
"subLayerIds": null,
"minScale": 350000,
"maxScale": 50001
},
{
"id": 1,
"name": "_Confine comunale",
"parentLayerId": -1,
"defaultVisibility": true,
"subLayerIds": null,
"minScale": 50000,
"maxScale": 0
},
{
"id": 2,
"name": "_Edifici",
"parentLayerId": -1,
"defaultVisibility": true,
"subLayerIds": null,
"minScale": 15000,
"maxScale": 0
},
{
"id": 3,
"name": "Ambiti di trasformazione",
"parentLayerId": -1,
"defaultVisibility": true,
"subLayerIds": null,
"minScale": 15000,
"maxScale": 0
},
{
"id": 4,
"name": "Limite del centro storico",
"parentLayerId": -1,
"defaultVisibility": true,
"subLayerIds": null,
"minScale": 25000,
"maxScale": 0
},
{
"id": 5,
"name": "Perimetro edificazione cascine",
"parentLayerId": -1,
"defaultVisibility": true,
"subLayerIds": null,
"minScale": 20000,
"maxScale": 0
},
{
"id": 6,
"name": "Perimetro PLIS",
"parentLayerId": -1,
"defaultVisibility": true,
"subLayerIds": null,
"minScale": 25000,
"maxScale": 0
},
{
"id": 7,
"name": "Fasce di rispetto stradale",
"parentLayerId": -1,
"defaultVisibility": true,
"subLayerIds": null,
"minScale": 10000,
"maxScale": 0
},
{
"id": 8,
"name": "V6 - Area potenziale ampliamento del cimitero",
"parentLayerId": -1,
"defaultVisibility": true,
"subLayerIds": null,
"minScale": 20000,
"maxScale": 0
},
{
"id": 9,
"name": "V9 - Perimetro di tutela assoluta",
"parentLayerId": -1,
"defaultVisibility": true,
"subLayerIds": null,
"minScale": 20000,
"maxScale": 0
},
{
"id": 10,
"name": "Azzonamento",
"parentLayerId": -1,
"defaultVisibility": true,
"subLayerIds": null,
"minScale": 20000,
"maxScale": 0
},
{
"id": 11,
"name": "Interesse archeologico",
"parentLayerId": -1,
"defaultVisibility": true,
"subLayerIds": null,
"minScale": 20000,
"maxScale": 0
},
{
"id": 12,
"name": "Infrastruttua stradale",
"parentLayerId": -1,
"defaultVisibility": true,
"subLayerIds": null,
"minScale": 10000,
"maxScale": 0
}
],
"tables": [],
"spatialReference": {
"wkid": 102100,
"latestWkid": 3857
},
"singleFusedMapCache": true,
"tileInfo": {
"rows": 256,
"cols": 256,
"dpi": 96,
"format": "PNG",
"compressionQuality": 0,
"origin": {
"x": -2.0037508342787E7,
"y": 2.0037508342787E7
},
"spatialReference": {
"wkid": 102100,
"latestWkid": 3857
},
"lods": [
{
"level": 0,
"resolution": 156543.033928,
"scale": 5.91657527591555E8
},
{
"level": 1,
"resolution": 78271.5169639999,
"scale": 2.95828763795777E8
},
{
"level": 2,
"resolution": 39135.7584820001,
"scale": 1.47914381897889E8
},
{
"level": 3,
"resolution": 19567.8792409999,
"scale": 7.3957190948944E7
},
{
"level": 4,
"resolution": 9783.93962049996,
"scale": 3.6978595474472E7
},
{
"level": 5,
"resolution": 4891.96981024998,
"scale": 1.8489297737236E7
},
{
"level": 6,
"resolution": 2445.98490512499,
"scale": 9244648.868618
},
{
"level": 7,
"resolution": 1222.99245256249,
"scale": 4622324.434309
},
{
"level": 8,
"resolution": 611.49622628138,
"scale": 2311162.217155
},
{
"level": 9,
"resolution": 305.748113140558,
"scale": 1155581.108577
},
{
"level": 10,
"resolution": 152.874056570411,
"scale": 577790.554289
},
{
"level": 11,
"resolution": 76.4370282850732,
"scale": 288895.277144
},
{
"level": 12,
"resolution": 38.2185141425366,
"scale": 144447.638572
},
{
"level": 13,
"resolution": 19.1092570712683,
"scale": 72223.819286
},
{
"level": 14,
"resolution": 9.55462853563415,
"scale": 36111.909643
},
{
"level": 15,
"resolution": 4.77731426794937,
"scale": 18055.954822
},
{
"level": 16,
"resolution": 2.38865713397468,
"scale": 9027.977411
},
{
"level": 17,
"resolution": 1.19432856685505,
"scale": 4513.988705
},
{
"level": 18,
"resolution": 0.597164283559817,
"scale": 2256.994353
},
{
"level": 19,
"resolution": 0.298582141647617,
"scale": 1128.497176
}
]
},
"initialExtent": {
"xmin": 1145695.1756698806,
"ymin": 5655769.057166664,
"xmax": 1156003.362952922,
"ymax": 5662341.320311191,
"spatialReference": {
"wkid": 102100,
"latestWkid": 3857
}
},
"fullExtent": {
"xmin": 1145695.1756698806,
"ymin": 5652551.717398652,
"xmax": 1156003.362952922,
"ymax": 5662341.3203111915,
"spatialReference": {
"wkid": 102100,
"latestWkid": 3857
}
},
"minScale": 1155581.108577,
"maxScale": 1128.497176,
"units": "esriMeters",
"supportedImageFormatTypes": "PNG32,PNG24,PNG,JPG,DIB,TIFF,EMF,PS,PDF,GIF,SVG,SVGZ,BMP",
"documentInfo": {
"Title": "Carta della disciplina delle zone urbanistiche",
"Author": "Globo srl",
"Comments": "Carta della disciplina delle zone urbanistiche",
"Subject": "Carta della disciplina delle zone urbanistiche",
"Category": "",
"AntialiasingMode": "None",
"TextAntialiasingMode": "Force",
"Keywords": "Attività produttive,Edilizia,Lavori pubblici e mobilità urbana,Tributi,Geoportale,Urbanistica e pianificazione,Vincolistica"
},
"capabilities": "Map,Query,Data",
"supportedQueryFormats": "JSON, AMF, geoJSON",
"exportTilesAllowed": false,
"supportsDatumTransformation": true,
"maxRecordCount": 1000,
"maxImageHeight": 4096,
"maxImageWidth": 4096,
"supportedExtensions": ""
}