{
 "currentVersion": 10.51,
 "serviceDescription": " Il piano di demanio marittimo comunale ha come scopo la tutela ambientale e la riqualificazione del litorale marittimo. A tale scopo, il Piano prospetta uno sviluppo sostenibile della intera fascia costiera del territorio comunale ed il rispetto della vocazione delle risorse territoriali, ambientali e paesaggistiche esistenti.<\/SPAN><\/P><\/DIV><\/DIV><\/DIV>",
 "mapName": "Demanio marittimo comunale",
 "description": "",
 "copyrightText": "",
 "supportsDynamicLayers": true,
 "layers": [
  {
   "id": 0,
   "name": "_Confine comunale",
   "parentLayerId": -1,
   "defaultVisibility": true,
   "subLayerIds": null,
   "minScale": 950010,
   "maxScale": 0
  },
  {
   "id": 1,
   "name": "Zona speciale - ZS",
   "parentLayerId": -1,
   "defaultVisibility": true,
   "subLayerIds": null,
   "minScale": 5010,
   "maxScale": 0
  },
  {
   "id": 2,
   "name": "Travocchi",
   "parentLayerId": -1,
   "defaultVisibility": true,
   "subLayerIds": null,
   "minScale": 10010,
   "maxScale": 0
  },
  {
   "id": 3,
   "name": "Delimitazione area demaniale marittima",
   "parentLayerId": -1,
   "defaultVisibility": true,
   "subLayerIds": null,
   "minScale": 30010,
   "maxScale": 0
  },
  {
   "id": 4,
   "name": "Limite est - LE",
   "parentLayerId": -1,
   "defaultVisibility": true,
   "subLayerIds": null,
   "minScale": 20010,
   "maxScale": 0
  },
  {
   "id": 5,
   "name": "Area di salvaguardia dall'erosione (ASE)",
   "parentLayerId": -1,
   "defaultVisibility": true,
   "subLayerIds": null,
   "minScale": 20010,
   "maxScale": 0
  },
  {
   "id": 6,
   "name": "Zona ricadente in area SIC",
   "parentLayerId": -1,
   "defaultVisibility": true,
   "subLayerIds": null,
   "minScale": 40010,
   "maxScale": 0
  },
  {
   "id": 7,
   "name": "Area di battigia - AB",
   "parentLayerId": -1,
   "defaultVisibility": true,
   "subLayerIds": null,
   "minScale": 40010,
   "maxScale": 0
  },
  {
   "id": 8,
   "name": "Tutela ambientale e riqualificazione",
   "parentLayerId": -1,
   "defaultVisibility": true,
   "subLayerIds": null,
   "minScale": 40010,
   "maxScale": 0
  },
  {
   "id": 9,
   "name": "Accessibile animali domestici piccola taglia (per SL)",
   "parentLayerId": -1,
   "defaultVisibility": true,
   "subLayerIds": null,
   "minScale": 5010,
   "maxScale": 0
  },
  {
   "id": 10,
   "name": "Spiaggia libera - SL",
   "parentLayerId": -1,
   "defaultVisibility": true,
   "subLayerIds": null,
   "minScale": 40010,
   "maxScale": 0
  },
  {
   "id": 11,
   "name": "Limite per aree ad uso sportivo - LAS",
   "parentLayerId": -1,
   "defaultVisibility": true,
   "subLayerIds": null,
   "minScale": 40010,
   "maxScale": 0
  },
  {
   "id": 12,
   "name": "Prosecuzione lungomare",
   "parentLayerId": -1,
   "defaultVisibility": true,
   "subLayerIds": null,
   "minScale": 40010,
   "maxScale": 0
  },
  {
   "id": 13,
   "name": "Area eventi",
   "parentLayerId": -1,
   "defaultVisibility": true,
   "subLayerIds": null,
   "minScale": 40010,
   "maxScale": 0
  },
  {
   "id": 14,
   "name": "Area sociale",
   "parentLayerId": -1,
   "defaultVisibility": true,
   "subLayerIds": null,
   "minScale": 40010,
   "maxScale": 0
  },
  {
   "id": 15,
   "name": "Area sport-gioco-svago",
   "parentLayerId": -1,
   "defaultVisibility": true,
   "subLayerIds": null,
   "minScale": 40010,
   "maxScale": 0
  },
  {
   "id": 16,
   "name": "Pontili / piattaforme galleggianti temporanee",
   "parentLayerId": -1,
   "defaultVisibility": true,
   "subLayerIds": null,
   "minScale": 20010,
   "maxScale": 0
  },
  {
   "id": 17,
   "name": "Corridoi di libero transito - CLT | Passerelle di collegamento tra CLT",
   "parentLayerId": -1,
   "defaultVisibility": true,
   "subLayerIds": null,
   "minScale": 40010,
   "maxScale": 0
  },
  {
   "id": 18,
   "name": "Zona concessioni demaniali - ZCD",
   "parentLayerId": -1,
   "defaultVisibility": true,
   "subLayerIds": null,
   "minScale": 80010,
   "maxScale": 0
  },
  {
   "id": 19,
   "name": "Medicina turistica e sede del circolo nautico",
   "parentLayerId": -1,
   "defaultVisibility": true,
   "subLayerIds": null,
   "minScale": 20010,
   "maxScale": 0
  },
  {
   "id": 20,
   "name": "Percorso diversamente abili (con piazzola in acqua)",
   "parentLayerId": -1,
   "defaultVisibility": true,
   "subLayerIds": null,
   "minScale": 20010,
   "maxScale": 0
  },
  {
   "id": 21,
   "name": "Marciapiede",
   "parentLayerId": -1,
   "defaultVisibility": true,
   "subLayerIds": null,
   "minScale": 40010,
   "maxScale": 0
  },
  {
   "id": 22,
   "name": "Pista ciclabile",
   "parentLayerId": -1,
   "defaultVisibility": true,
   "subLayerIds": null,
   "minScale": 20010,
   "maxScale": 0
  },
  {
   "id": 23,
   "name": "Scogliera",
   "parentLayerId": -1,
   "defaultVisibility": true,
   "subLayerIds": null,
   "minScale": 40010,
   "maxScale": 0
  }
 ],
 "tables": [],
 "spatialReference": {
  "wkid": 102100,
  "latestWkid": 3857
 },
 "singleFusedMapCache": true,
 "tileInfo": {
  "rows": 256,
  "cols": 256,
  "dpi": 96,
  "format": "PNG",
  "compressionQuality": 0,
  "origin": {
   "x": -2.0037508342787E7,
   "y": 2.0037508342787E7
  },
  "spatialReference": {
   "wkid": 102100,
   "latestWkid": 3857
  },
  "lods": [
   {
    "level": 0,
    "resolution": 156543.033928,
    "scale": 5.91657527591555E8
   },
   {
    "level": 1,
    "resolution": 78271.5169639999,
    "scale": 2.95828763795777E8
   },
   {
    "level": 2,
    "resolution": 39135.7584820001,
    "scale": 1.47914381897889E8
   },
   {
    "level": 3,
    "resolution": 19567.8792409999,
    "scale": 7.3957190948944E7
   },
   {
    "level": 4,
    "resolution": 9783.93962049996,
    "scale": 3.6978595474472E7
   },
   {
    "level": 5,
    "resolution": 4891.96981024998,
    "scale": 1.8489297737236E7
   },
   {
    "level": 6,
    "resolution": 2445.98490512499,
    "scale": 9244648.868618
   },
   {
    "level": 7,
    "resolution": 1222.99245256249,
    "scale": 4622324.434309
   },
   {
    "level": 8,
    "resolution": 611.49622628138,
    "scale": 2311162.217155
   },
   {
    "level": 9,
    "resolution": 305.748113140558,
    "scale": 1155581.108577
   },
   {
    "level": 10,
    "resolution": 152.874056570411,
    "scale": 577790.554289
   },
   {
    "level": 11,
    "resolution": 76.4370282850732,
    "scale": 288895.277144
   },
   {
    "level": 12,
    "resolution": 38.2185141425366,
    "scale": 144447.638572
   },
   {
    "level": 13,
    "resolution": 19.1092570712683,
    "scale": 72223.819286
   },
   {
    "level": 14,
    "resolution": 9.55462853563415,
    "scale": 36111.909643
   },
   {
    "level": 15,
    "resolution": 4.77731426794937,
    "scale": 18055.954822
   },
   {
    "level": 16,
    "resolution": 2.38865713397468,
    "scale": 9027.977411
   },
   {
    "level": 17,
    "resolution": 1.19432856685505,
    "scale": 4513.988705
   },
   {
    "level": 18,
    "resolution": 0.597164283559817,
    "scale": 2256.994353
   },
   {
    "level": 19,
    "resolution": 0.298582141647617,
    "scale": 1128.497176
   },
   {
    "level": 20,
    "resolution": 0.14929107082380833,
    "scale": 564.248588
   },
   {
    "level": 21,
    "resolution": 0.07464553541190416,
    "scale": 282.124294
   },
   {
    "level": 22,
    "resolution": 0.03732276770595208,
    "scale": 141.062147
   },
   {
    "level": 23,
    "resolution": 0.01866138385297604,
    "scale": 70.5310735
   }
  ]
 },
 "initialExtent": {
  "xmin": 1617785.8427540683,
  "ymin": 5174335.248751073,
  "xmax": 1657023.6295629754,
  "ymax": 5190077.988569886,
  "spatialReference": {
   "wkid": 102100,
   "latestWkid": 3857
  }
 },
 "fullExtent": {
  "xmin": 1618751.5738521973,
  "ymin": 5166291.89933104,
  "xmax": 1656057.8984648464,
  "ymax": 5190077.988569885,
  "spatialReference": {
   "wkid": 102100,
   "latestWkid": 3857
  }
 },
 "minScale": 5.91657527591555E8,
 "maxScale": 564.248588,
 "units": "esriMeters",
 "supportedImageFormatTypes": "PNG32,PNG24,PNG,JPG,DIB,TIFF,EMF,PS,PDF,GIF,SVG,SVGZ,BMP",
 "documentInfo": {
  "Title": "",
  "Author": "",
  "Comments": "",
  "Subject": "",
  "Category": "",
  "AntialiasingMode": "None",
  "TextAntialiasingMode": "Force",
  "Keywords": "Demanio,Marittimo,Tutela,Territorio,Urbanistica e pianificazione"
 },
 "capabilities": "Map,Query,Data",
 "supportedQueryFormats": "JSON, AMF, geoJSON",
 "exportTilesAllowed": false,
 "supportsDatumTransformation": true,
 "maxRecordCount": 1000,
 "maxImageHeight": 4096,
 "maxImageWidth": 4096,
 "supportedExtensions": ""
}
