View In:
ArcGIS JavaScript
ArcGIS Online map viewer
Google Earth
ArcMap
ArcGIS Explorer
View Footprint In:
ArcGIS Online map viewer
Service Description: Conoscere e apprendere la qualità del paesaggio è di fondamentale importanza per poter contribuire alla crescita ed allo sviluppo del territorio. Il territorio, patrimonio culturale di inestimabile importanza, può essere compreso attraverso diversi modelli che ne esaltano il suo valore primario, la sua ricchezza ed attrazione turistica sottolineando, inoltre, la principali aree di rispetto volte alla tutela ed alla conservazione di esso. Uno di questi strumenti è la Carta del paesaggio e dei vincoli.
Map Name: A8 Carta dei vincoli
Legend
All Layers and Tables
Dynamic Legend
Dynamic All Layers
Layers:
Description:
Copyright Text:
Spatial Reference:
102100
(3857)
Single Fused Map Cache: true
Tile Info:
- Height: 256
- Width: 256
- DPI: 96
-
Levels of Detail: 20
-
Level ID: 1
[ Start Tile, End Tile ]
- Resolution: 78271.5169639999
- Scale: 2.95828763795777E8
-
Level ID: 2
[ Start Tile, End Tile ]
- Resolution: 39135.7584820001
- Scale: 1.47914381897889E8
-
Level ID: 3
[ Start Tile, End Tile ]
- Resolution: 19567.8792409999
- Scale: 7.3957190948944E7
-
Level ID: 4
[ Start Tile, End Tile ]
- Resolution: 9783.93962049996
- Scale: 3.6978595474472E7
-
Level ID: 5
[ Start Tile, End Tile ]
- Resolution: 4891.96981024998
- Scale: 1.8489297737236E7
- Format: PNG
- Compression Quality: 0.0
- Origin:
X: -2.0037508342787E7
Y: 2.0037508342787E7
- Spatial Reference:
102100
(3857)
Initial Extent:
XMin: 1060144.308383793
YMin: 5733504.127529797
XMax: 1073423.7724427213
YMax: 5738226.94947544
Spatial Reference:
102100
(3857)
Full Extent:
XMin: 1060783.2784117332
YMin: 5731091.122703787
XMax: 1072784.8024147812
YMax: 5738226.949475441
Spatial Reference:
102100
(3857)
Units: esriMeters
Supported Image Format Types: PNG32,PNG24,PNG,JPG,DIB,TIFF,EMF,PS,PDF,GIF,SVG,SVGZ,BMP
Document Info:
Title: Vincoli
Author: Globo srl
Comments: Vincoli
Subject: Vincoli
Category:
Keywords: Ambiente; Divieti; Forme di paesaggio; Vincoli.
AntialiasingMode: None
TextAntialiasingMode: Force
Supports Dynamic Layers: true
MaxRecordCount: 1000
MaxImageHeight: 4096
MaxImageWidth: 4096
Supported Query Formats: JSON, AMF, geoJSON
Min Scale: 7.3957190948944E7
Max Scale: 1128.497176
Supports Datum Transformation: true
Child Resources:
Info
Dynamic Layer
Supported Operations:
Export Map
Identify
QueryDomains
Find
Return Updates