View In:
ArcGIS JavaScript
ArcGIS Online map viewer
Google Earth
ArcMap
ArcGIS Explorer
View Footprint In:
ArcGIS Online map viewer
Service Description: I vincoli sono delle limitazioni operative di un bene in rapporto a particolari azioni imposte attraverso norme specifiche. All’interno della mappa sono individuate le limitazioni d’uso del territorio, di contenuto prettamente geologico, derivanti da normative e piani sovraordinati.
Map Name: Vincoli Amministrativi
Legend
All Layers and Tables
Dynamic Legend
Dynamic All Layers
Layers:
Description: Vincoli Amministrativi
Copyright Text: Globo srl
Spatial Reference:
102100
(3857)
Single Fused Map Cache: true
Tile Info:
- Height: 256
- Width: 256
- DPI: 96
-
Levels of Detail: 20
-
Level ID: 1
[ Start Tile, End Tile ]
- Resolution: 78271.5169639999
- Scale: 2.95828763795777E8
-
Level ID: 2
[ Start Tile, End Tile ]
- Resolution: 39135.7584820001
- Scale: 1.47914381897889E8
-
Level ID: 3
[ Start Tile, End Tile ]
- Resolution: 19567.8792409999
- Scale: 7.3957190948944E7
-
Level ID: 4
[ Start Tile, End Tile ]
- Resolution: 9783.93962049996
- Scale: 3.6978595474472E7
-
Level ID: 5
[ Start Tile, End Tile ]
- Resolution: 4891.96981024998
- Scale: 1.8489297737236E7
- Format: PNG
- Compression Quality: 0.0
- Origin:
X: -2.0037508342787E7
Y: 2.0037508342787E7
- Spatial Reference:
102100
(3857)
Initial Extent:
XMin: 1001827.7085745665
YMin: 5714825.130345606
XMax: 1012677.4479411258
YMax: 5719404.919826969
Spatial Reference:
102100
(3857)
Full Extent:
XMin: 1002180.505613701
YMin: 5712062.717642563
XMax: 1012324.6509019914
YMax: 5719404.919826969
Spatial Reference:
102100
(3857)
Units: esriMeters
Supported Image Format Types: PNG32,PNG24,PNG,JPG,DIB,TIFF,EMF,PS,PDF,GIF,SVG,SVGZ,BMP
Document Info:
Title: Vincoli Amministrativi
Author: Globo srl
Comments: Vincoli Amministrativi
Subject: Vincoli Amministrativi
Category:
Keywords: Divieto; Territorio; Vincoli.
AntialiasingMode: None
TextAntialiasingMode: Force
Supports Dynamic Layers: true
MaxRecordCount: 1000
MaxImageHeight: 4096
MaxImageWidth: 4096
Supported Query Formats: JSON, AMF, geoJSON
Min Scale: 1155581.108577
Max Scale: 1128.497176
Supports Datum Transformation: true
Child Resources:
Info
Dynamic Layer
Supported Operations:
Export Map
Identify
QueryDomains
Find
Return Updates