View In:
ArcGIS JavaScript
ArcGIS Online map viewer
Google Earth
ArcMap
ArcGIS Explorer
View Footprint In:
ArcGIS Online map viewer
Service Description: Il Piano di governo del territorio, sulla base dello studio delle componenti paesaggistiche, dell’individuazione delle zone di tutela e delle criticità idrogeologiche, suddivide il territorio comunale in 5 classi di sensibilità paesaggistica: sensibilità molto alta, sensibilità alta, sensibilità media, sensibilità bassa e molto bassa.
Tale classificazione è finalizzata all’ottimale inserimento di quei progetti di trasformazione che saranno oggetto di autorizzazione paesaggistica e di cui, quindi, sarà valutata l'incidenza sull'ambiente circostante.
Map Name: Sensibilità paesaggistica dei luoghi
Legend
All Layers and Tables
Dynamic Legend
Dynamic All Layers
Layers:
Description:
Copyright Text:
Spatial Reference:
102100
(3857)
Single Fused Map Cache: true
Tile Info:
- Height: 256
- Width: 256
- DPI: 96
-
Levels of Detail: 20
-
Level ID: 1
[ Start Tile, End Tile ]
- Resolution: 78271.5169639999
- Scale: 2.95828763795777E8
-
Level ID: 2
[ Start Tile, End Tile ]
- Resolution: 39135.7584820001
- Scale: 1.47914381897889E8
-
Level ID: 3
[ Start Tile, End Tile ]
- Resolution: 19567.8792409999
- Scale: 7.3957190948944E7
-
Level ID: 4
[ Start Tile, End Tile ]
- Resolution: 9783.93962049996
- Scale: 3.6978595474472E7
-
Level ID: 5
[ Start Tile, End Tile ]
- Resolution: 4891.96981024998
- Scale: 1.8489297737236E7
- Format: PNG
- Compression Quality: 0.0
- Origin:
X: -2.0037508342787E7
Y: 2.0037508342787E7
- Spatial Reference:
102100
(3857)
Initial Extent:
XMin: 1002606.2775841522
YMin: 5714836.682632104
XMax: 1011647.7270562894
YMax: 5718653.173866574
Spatial Reference:
102100
(3857)
Full Extent:
XMin: 1002900.2751167666
YMin: 5712534.672046232
XMax: 1011353.7295236753
YMax: 5718653.173866573
Spatial Reference:
102100
(3857)
Units: esriMeters
Supported Image Format Types: PNG32,PNG24,PNG,JPG,DIB,TIFF,EMF,PS,PDF,GIF,SVG,SVGZ,BMP
Document Info:
Title: Sensibilita paesaggisitica
Author: Globo srl
Comments: Sensibilita paesaggisitica
Subject: Sensibilita paesaggisitica
Category:
Keywords: Edilizia,Geoportale,Urbanistica e pianificazione
AntialiasingMode: None
TextAntialiasingMode: Force
Supports Dynamic Layers: true
MaxRecordCount: 1000
MaxImageHeight: 4096
MaxImageWidth: 4096
Supported Query Formats: JSON, AMF, geoJSON
Min Scale: 9244648.868618
Max Scale: 1128.497176
Supports Datum Transformation: true
Child Resources:
Info
Dynamic Layer
Supported Operations:
Export Map
Identify
QueryDomains
Find
Return Updates