View In:
ArcGIS JavaScript
ArcGIS Online map viewer
Google Earth
ArcMap
ArcGIS Explorer
View Footprint In:
ArcGIS Online map viewer
Service Description: Lo Studio geologico è uno strumento urbanistico che costituisce parte fondamentale del Piano di governo del territorio, è costituito da una parte cartografica e da una parte descrittiva. Definisce la componente geologica, idrogeologica e sismica del territorio comunale con lo scopo di assegnare alle singole aree norme d’uso e prescrizioni.
La carta della fattibilità geologica costituisce la fase di proposta dello Studio geologico e prevede l’assegnazione della classe di fattibilità agli ambiti omogenei per pericolosità geologica, vulnerabilità idraulica e idrogeologica individuati nella fase di sintesi.
La carta della pericolosità sismica locale deriva dall’unione della carta geologica e dalla carta geomorfologica. Riporta la perimetrazione areale e lineare delle diverse situazioni tipo in grado di determinare effetti sismici locali.
Map Name: Fattibilità geologica
Legend
All Layers and Tables
Dynamic Legend
Dynamic All Layers
Layers:
Description: Fattibilità geologica
Copyright Text: Globo srl
Spatial Reference:
102100
(3857)
Single Fused Map Cache: true
Tile Info:
- Height: 256
- Width: 256
- DPI: 96
-
Levels of Detail: 20
-
Level ID: 1
[ Start Tile, End Tile ]
- Resolution: 78271.5169639999
- Scale: 2.95828763795777E8
-
Level ID: 2
[ Start Tile, End Tile ]
- Resolution: 39135.7584820001
- Scale: 1.47914381897889E8
-
Level ID: 3
[ Start Tile, End Tile ]
- Resolution: 19567.8792409999
- Scale: 7.3957190948944E7
-
Level ID: 4
[ Start Tile, End Tile ]
- Resolution: 9783.93962049996
- Scale: 3.6978595474472E7
-
Level ID: 5
[ Start Tile, End Tile ]
- Resolution: 4891.96981024998
- Scale: 1.8489297737236E7
- Format: PNG
- Compression Quality: 0.0
- Origin:
X: -2.0037508342787E7
Y: 2.0037508342787E7
- Spatial Reference:
102100
(3857)
Initial Extent:
XMin: 1001894.4179016885
YMin: 5714942.126161014
XMax: 1012159.7187846266
YMax: 5719275.217990997
Spatial Reference:
102100
(3857)
Full Extent:
XMin: 1002176.2450720528
YMin: 5712328.515215944
XMax: 1011877.8916142626
YMax: 5719275.217990997
Spatial Reference:
102100
(3857)
Units: esriMeters
Supported Image Format Types: PNG32,PNG24,PNG,JPG,DIB,TIFF,EMF,PS,PDF,GIF,SVG,SVGZ,BMP
Document Info:
Title: Fattibilità geologica
Author: Globo srl
Comments: Fattibilità geologica
Subject: Fattibilità geologica
Category:
Keywords: Edilizia,Geoportale,Urbanistica e pianificazione
AntialiasingMode: None
TextAntialiasingMode: Force
Supports Dynamic Layers: true
MaxRecordCount: 1000
MaxImageHeight: 4096
MaxImageWidth: 4096
Supported Query Formats: JSON, AMF, geoJSON
Min Scale: 2311162.217155
Max Scale: 1128.497176
Supports Datum Transformation: true
Child Resources:
Info
Dynamic Layer
Supported Operations:
Export Map
Identify
QueryDomains
Find
Return Updates