View In:
ArcGIS JavaScript
ArcGIS Online map viewer
Google Earth
ArcMap
ArcGIS Explorer
View Footprint In:
ArcGIS Online map viewer
Service Description: La Carta tecnica comunale, denominata C.T.C., costituisce la cartografia di base dei Piani urbanistici.
La CTR rappresenta aspetti dovuti a trasformazioni del territorio di tipo antropico: insediamenti, strade, ferrovie, canali, colture agricole; limiti amministrativi; toponomastica; una serie di contenuti fisiografici quali il reticolo idrografico, i laghi, i rilievi e la vegetazione.
Map Name: Layers
Legend
All Layers and Tables
Layers:
Description:
Copyright Text: Globo srl
Spatial Reference:
102100
(3857)
Single Fused Map Cache: true
Tile Info:
- Height: 256
- Width: 256
- DPI: 96
-
Levels of Detail: 20
-
Level ID: 0
[ Start Tile, End Tile ]
- Resolution: 156543.03392800014
- Scale: 5.91657527591555E8
-
Level ID: 1
[ Start Tile, End Tile ]
- Resolution: 78271.51696399994
- Scale: 2.95828763795777E8
-
Level ID: 2
[ Start Tile, End Tile ]
- Resolution: 39135.75848200009
- Scale: 1.47914381897889E8
-
Level ID: 3
[ Start Tile, End Tile ]
- Resolution: 19567.87924099992
- Scale: 7.3957190948944E7
-
Level ID: 4
[ Start Tile, End Tile ]
- Resolution: 9783.93962049996
- Scale: 3.6978595474472E7
-
Level ID: 5
[ Start Tile, End Tile ]
- Resolution: 4891.96981024998
- Scale: 1.8489297737236E7
- Format: PNG
- Compression Quality: 0.0
- Origin:
X: -2.0037508342787E7
Y: 2.0037508342787E7
- Spatial Reference:
102100
(3857)
Initial Extent:
XMin: 1731511.3917527767
YMin: 5107326.927423547
XMax: 1776303.0693623004
YMax: 5126153.330706534
Spatial Reference:
102100
(3857)
Full Extent:
XMin: 1740542.9874024817
YMin: 5088121.469040901
XMax: 1767271.4737125959
YMax: 5126153.330706534
Spatial Reference:
102100
(3857)
Units: esriMeters
Supported Image Format Types: PNG32,PNG24,PNG,JPG,DIB,TIFF,EMF,PS,PDF,GIF,SVG,SVGZ,BMP
Document Info:
Title:
Author:
Comments: base
Subject: base
Category:
Keywords: Edilizia,Geoportale,Carta Tecnica Regionale,Urbanistica e pianificazione,Territorio
AntialiasingMode: None
TextAntialiasingMode: Force
Supports Dynamic Layers: false
MaxRecordCount: 1000
MaxImageHeight: 4096
MaxImageWidth: 4096
Supported Query Formats: JSON, AMF, geoJSON
Min Scale: 288895.277144
Max Scale: 1128.497176
Supports Datum Transformation: true
Child Resources:
Info
Supported Operations:
Export Map
Identify
QueryDomains
Find
Return Updates