View In:
ArcGIS JavaScript
ArcGIS Online map viewer
Google Earth
ArcMap
ArcGIS Explorer
View Footprint In:
ArcGIS Online map viewer
Service Description: Le mappe di vincolo dell’Aeroporto di Milano-Linate, prescritte dall’art. n. 707 del Codice della Navigazione, costituiscono lo strumento operativo essenziale per valutare la realizzazione di nuove edificazioni che possano essere in contrasto con le servitù aeronautiche definite dalle superfici di contenimento degli ostacoli alla navigazione aerea descritte dal cap. 4 del Regolamento ENAC per la Costruzione e l’Esercizio degli Aeroporti e dall’Annesso XIV ICAO.
Tali mappe, inoltre, definiscono le aree limitrofe agli aeroporti da sottoporre a vincolo per quanto riguarda ulteriori potenziali pericoli per la navigazione aerea, al fine di garantire la sicurezza della navigazione aerea
Map Name: PR04 - Vincoli aeroportuali
Legend
All Layers and Tables
Dynamic Legend
Dynamic All Layers
Layers:
Description:
Copyright Text:
Spatial Reference:
102100
(3857)
Single Fused Map Cache: true
Tile Info:
- Height: 256
- Width: 256
- DPI: 96
-
Levels of Detail: 24
-
Level ID: 1
[ Start Tile, End Tile ]
- Resolution: 78271.5169639999
- Scale: 2.95828763795777E8
-
Level ID: 2
[ Start Tile, End Tile ]
- Resolution: 39135.7584820001
- Scale: 1.47914381897889E8
-
Level ID: 3
[ Start Tile, End Tile ]
- Resolution: 19567.8792409999
- Scale: 7.3957190948944E7
-
Level ID: 4
[ Start Tile, End Tile ]
- Resolution: 9783.93962049996
- Scale: 3.6978595474472E7
-
Level ID: 5
[ Start Tile, End Tile ]
- Resolution: 4891.96981024998
- Scale: 1.8489297737236E7
- Format: PNG
- Compression Quality: 0.0
- Origin:
X: -2.0037508342787E7
Y: 2.0037508342787E7
- Spatial Reference:
102100
(3857)
Initial Extent:
XMin: 1025596.4155110989
YMin: 5679314.502669315
XMax: 1040038.49212825
YMax: 5689020.378640656
Spatial Reference:
102100
(3857)
Full Extent:
XMin: 1026647.0515698523
YMin: 5677190.742842673
XMax: 1038987.8560694964
YMax: 5686074.402564744
Spatial Reference:
102100
(3857)
Units: esriMeters
Supported Image Format Types: PNG32,PNG24,PNG,JPG,DIB,TIFF,EMF,PS,PDF,GIF,SVG,SVGZ,BMP
Document Info:
Title:
Author:
Comments:
Subject:
Category:
Keywords: GeoPortale,Aeroporti,vincoli,Lombardia
AntialiasingMode: None
TextAntialiasingMode: Force
Supports Dynamic Layers: true
MaxRecordCount: 1000
MaxImageHeight: 4096
MaxImageWidth: 4096
Supported Query Formats: JSON, AMF, geoJSON
Min Scale: 5.91657527591555E8
Max Scale: 564.248588
Supports Datum Transformation: true
Child Resources:
Info
Dynamic Layer
Supported Operations:
Export Map
Identify
QueryDomains
Find
Return Updates