View In:
ArcGIS JavaScript
ArcGIS Online map viewer
Google Earth
ArcMap
ArcGIS Explorer
View Footprint In:
ArcGIS Online map viewer
Service Description: Il Piano delle regole interessa il tessuto urbano consolidato, ha valenza prescrittiva, non ha limiti temporali e può essere rivisto ogni anno. Definisce le regole insediative per le aree di completamento e per le situazioni già costruite da riqualificare, distinte e definite in rapporto alla combinazione tra funzioni e caratteristiche morfologiche e tipologiche del tessuto insediativo.
Il Piano delle regole individua:
- gli ambiti del tessuto urbano consolidato, quali insieme delle parti di territorio su cui è già avvenuta l’edificazione o la trasformazione dei suoli, comprendendo in essi le aree libere intercluse o di completamento;
- gli immobili assoggettati a tutela in base alla normativa statale e regionale;
- le aree e gli edifici a rischio di compromissione o degrado e a rischio di incidente rilevante;
- le aree destinate all’agricoltura;
- le aree di valore paesaggistico-ambientale ed ecologiche;
- le aree non soggette a trasformazione urbanistica.
Map Name: Prescrizioni ambiti territoriali
Legend
All Layers and Tables
Dynamic Legend
Dynamic All Layers
Layers:
Description:
Copyright Text:
Spatial Reference:
102100
(3857)
Single Fused Map Cache: true
Tile Info:
- Height: 256
- Width: 256
- DPI: 96
-
Levels of Detail: 20
-
Level ID: 1
[ Start Tile, End Tile ]
- Resolution: 78271.5169639999
- Scale: 2.95828763795777E8
-
Level ID: 2
[ Start Tile, End Tile ]
- Resolution: 39135.7584820001
- Scale: 1.47914381897889E8
-
Level ID: 3
[ Start Tile, End Tile ]
- Resolution: 19567.8792409999
- Scale: 7.3957190948944E7
-
Level ID: 4
[ Start Tile, End Tile ]
- Resolution: 9783.93962049996
- Scale: 3.6978595474472E7
-
Level ID: 5
[ Start Tile, End Tile ]
- Resolution: 4891.96981024998
- Scale: 1.8489297737236E7
- Format: PNG
- Compression Quality: 0.0
- Origin:
X: -2.0037508342787E7
Y: 2.0037508342787E7
- Spatial Reference:
102100
(3857)
Initial Extent:
XMin: 1152211.0936711375
YMin: 5667926.7393543385
XMax: 1165096.3277749391
YMax: 5676142.068284996
Spatial Reference:
102100
(3857)
Full Extent:
XMin: 1151289.6784684507
YMin: 5663565.080357236
XMax: 1164275.4544400026
YMax: 5675897.567804552
Spatial Reference:
102100
(3857)
Units: esriMeters
Supported Image Format Types: PNG32,PNG24,PNG,JPG,DIB,TIFF,EMF,PS,PDF,GIF,SVG,SVGZ,BMP
Document Info:
Title: Acquafredda - Prescrizioni ambiti territoriali
Author: Globo srl
Comments: Acquafredda - Prescrizioni ambiti territoriali
Subject: Acquafredda - Prescrizioni ambiti territoriali
Category:
Keywords: Attività produttive,Edilizia,Lavori pubblici e mobilità urbana,Tributi,Geoportale,Urbanistica e pianificazione,Vincolistica
AntialiasingMode: None
TextAntialiasingMode: Force
Supports Dynamic Layers: true
MaxRecordCount: 1000
MaxImageHeight: 4096
MaxImageWidth: 4096
Supported Query Formats: JSON, AMF, geoJSON
Min Scale: 2311162.217155
Max Scale: 1128.497176
Supports Datum Transformation: true
Child Resources:
Info
Dynamic Layer
Supported Operations:
Export Map
Identify
QueryDomains
Find
Return Updates