View In:
ArcGIS JavaScript
ArcGIS Online map viewer
Google Earth
ArcMap
ArcGIS Explorer
View Footprint In:
ArcGIS Online map viewer
Service Description: Si definiscono vincoli le limitazioni alla libera disponibilità di un bene. La tavola individua le aree soggette a prescrizioni derivanti da vincoli ricognitivi e vincoli conformativi.
I vincoli ricognitivi interessano intere categorie di beni che meritano una tutela particolare per la loro stessa natura, o zone che per le loro specifiche caratteristiche devono essere trattate in maniera differente dal restante territorio. Alcuni esempi sono il vincolo idrogeologico, le tutele dei beni storici e dei beni ambientali (parchi, riserve naturali, zone alpine, boschi, fiumi, ecc.).
I vincoli conformativi derivano da leggi specifiche che tutelano la funzionalità di beni di interesse pubblico e devono essere recepiti dai piani urbanistici. Alcuni esempi sono le fasce di rispetto stradale, cimiteriale, degli elettrodotti e dei depuratori.
Map Name: Tavola delle prvisioni di piano
Legend
All Layers and Tables
Dynamic Legend
Dynamic All Layers
Layers:
Description:
Copyright Text:
Spatial Reference:
102100
(3857)
Single Fused Map Cache: true
Tile Info:
- Height: 256
- Width: 256
- DPI: 96
-
Levels of Detail: 20
-
Level ID: 1
[ Start Tile, End Tile ]
- Resolution: 78271.5169639999
- Scale: 2.95828763795777E8
-
Level ID: 2
[ Start Tile, End Tile ]
- Resolution: 39135.7584820001
- Scale: 1.47914381897889E8
-
Level ID: 3
[ Start Tile, End Tile ]
- Resolution: 19567.8792409999
- Scale: 7.3957190948944E7
-
Level ID: 4
[ Start Tile, End Tile ]
- Resolution: 9783.93962049996
- Scale: 3.6978595474472E7
-
Level ID: 5
[ Start Tile, End Tile ]
- Resolution: 4891.96981024998
- Scale: 1.8489297737236E7
- Format: PNG
- Compression Quality: 0.0
- Origin:
X: -2.0037508342787E7
Y: 2.0037508342787E7
- Spatial Reference:
102100
(3857)
Initial Extent:
XMin: 1145976.9577733756
YMin: 5655049.469276033
XMax: 1156285.1450564165
YMax: 5661621.73242056
Spatial Reference:
102100
(3857)
Full Extent:
XMin: 1145976.9577733756
YMin: 5651832.12950802
XMax: 1156285.1450564165
YMax: 5661621.732420558
Spatial Reference:
102100
(3857)
Units: esriMeters
Supported Image Format Types: PNG32,PNG24,PNG,JPG,DIB,TIFF,EMF,PS,PDF,GIF,SVG,SVGZ,BMP
Document Info:
Title: Tavola delle prvisioni di piano
Author: Globo srl
Comments: Tavola delle prvisioni di piano
Subject: Tavola delle prvisioni di piano
Category:
Keywords: Edilizia,Geoportale,Urbanistica e pianificazione,Vincolistica
AntialiasingMode: None
TextAntialiasingMode: Force
Supports Dynamic Layers: true
MaxRecordCount: 1000
MaxImageHeight: 4096
MaxImageWidth: 4096
Supported Query Formats: JSON, AMF, geoJSON
Min Scale: 1155581.108577
Max Scale: 1128.497176
Supports Datum Transformation: true
Child Resources:
Info
Dynamic Layer
Supported Operations:
Export Map
Identify
QueryDomains
Find
Return Updates